Workbook

Sheet PLANILHA ORÇAMENTÁRIA
A6: PLANILHA ORÇAMENTÁRIA
O8: DATA-BASE: TABELAS DESONERADAS
A9: OBRA: ADEQUAÇÃO DO CENTRO DE ZOONOSES MUNICIPAL | O9: CDHU | Q9: 183
A10: LOCAL: RUA FRANCISCO SILVEIRA DINIZ - PARQUE INDUSTRIAL | O10: LEIS SOCIAIS | Q10: 0.9778
O11: BDI | Q11: 0.2979
A13: ITEM | B13: CÓD | C13: FONTE | D13: MATERIAL E MÃO DE OBRA | L13: UND | M13: QUANT | N13: P. UNITÁRIO | O13: P. TOTAL S/BDI | P13: P. UNIT C/ BDI: 29,79% | Q13: P. TOTAL C/BDI
A14: 1 | D14: SERVIÇOS PRELIMINARES
A15: 1.1 | B15: 02.08.020 | C15: CDHU | D15: Placa de identificação de obra | L15: m² | M15: 2.88 | N15: 621.08 | O15: =M15*N15 -> 1788.7104 | P15: =N15*1.2979 -> 806.09973 | Q15: =M15*P15 -> 2321.5672
A16: 1.2 | B16: 02.02.150 | C16: CDHU | D16: Locação de container tipo depósito - área mínima de 13,80 m² | L16: unxmês | M16: 4 | N16: 559.68 | O16: =M16*N16 -> 2238.72 | P16: =N16*1.2979 -> 726.40867 | Q16: =M16*P16 -> 2905.6347
O17: =SUM(O15:O16) -> 4027.4304 | Q17: =SUM(Q15:Q16) -> 5227.2019
A18: 2 | D18: FECHAMENTO EM MURO DE ARRIMO H=2,60m
A19: 2.1 | B19: 01.17.051 | C19: CDHU | D19: Projeto executivo de estrutura em formato A1 | L19: un | M19: 1 | N19: 1767.99 | O19: =M19*N19 -> 1767.99 | P19: =N19*1.2979 -> 2294.6742 | Q19: =M19*P19 -> 2294.6742
A20: 2.2 | B20: 02.10.050 | C20: CDHU | D20: Locação para muros, cercas e alambrados | L20: m | M20: 13.5 | N20: 1.06 | O20: =M20*N20 -> 14.31 | P20: =N20*1.2979 -> 1.375774 | Q20: =M20*P20 -> 18.572949
A21: 2.3 | B21: 03.02.040 | C21: CDHU | D21: Demolição manual de alvenaria de elevação ou elemento vazado, incluindo revestimento | L21: m³ | M21: 3.23 | N21: 58.08 | O21: =M21*N21 -> 187.5984 | P21: =N21*1.2979 -> 75.382032 | Q21: =M21*P21 -> 243.48396
A22: 2.4 | B22: 07.01.060 | C22: CDHU | D22: Escavação e carga mecanizada em solo de 2ª categoria, em campo aberto | L22: m³ | M22: =M20*2*1.7 -> 45.9 | N22: 19.11 | O22: =M22*N22 -> 877.149 | P22: =N22*1.2979 -> 24.802869 | Q22: =M22*P22 -> 1138.4517
A23: 2.5 | B23: 07.11.020 | C23: CDHU | D23: Reaterro compactado mecanizado de vala ou cava com compactador | L23: m³ | M23: =M20*1.3*1.7 -> 29.835 | N23: 5.18 | O23: =M23*N23 -> 154.5453 | P23: =N23*1.2979 -> 6.723122 | Q23: =M23*P23 -> 200.58434
A24: 2.6 | B24: 05.08.220 | C24: CDHU | D24: Carregamento mecanizado de entulho fragmentado, com caminhão à disposição dentro da obra, até o raio de 1 km | L24: m³ | M24: =M21 -> 3.23 | N24: 12.03 | O24: =M24*N24 -> 38.8569 | P24: =N24*1.2979 -> 15.613737 | Q24: =M24*P24 -> 50.432371
A25: 2.7 | B25: 12.01.041 | C25: CDHU | D25: Broca em concreto armado diâmetro de 25 cm - completa | L25: m | M25: 60 | N25: 60.77 | O25: =M25*N25 -> 3646.2 | P25: =N25*1.2979 -> 78.873383 | Q25: =M25*P25 -> 4732.403
A26: 2.8 | B26: 09.01.020 | C26: CDHU | D26: Forma em madeira comum para fundação | L26: m² | M26: 10.22 | N26: 75.25 | O26: =M26*N26 -> 769.055 | P26: =N26*1.2979 -> 97.666975 | Q26: =M26*P26 -> 998.15648
A27: 2.9 | B27: 11.04.020 | C27: CDHU | D27: Lastro de concreto não estrutural executado no local, mínimo 150 kg cimento / m³ | L27: m³ | M27: =M20*0.055 -> 0.7425 | N27: 277.19 | O27: =M27*N27 -> 205.81358 | P27: =N27*1.2979 -> 359.7649 | Q27: =M27*P27 -> 267.12544
A28: 2.10 | B28: 11.01.130 | C28: CDHU | D28: Concreto usinado, fck = 25 Mpa | L28: m³ | M28: =M20*0.275 -> 3.7125 | N28: 359.52 | O28: =M28*N28 -> 1334.718 | P28: =N28*1.2979 -> 466.62101 | Q28: =M28*P28 -> 1732.3305
A29: 2.11 | B29: 11.16.040 | C29: CDHU | D29: Lançamento e adensamento de concreto ou massa em fundação | L29: m³ | M29: 4.45 | N29: 122.4 | O29: =M29*N29 -> 544.68 | P29: =N29*1.2979 -> 158.86296 | Q29: =M29*P29 -> 706.94017
A30: 2.12 | B30: 10.01.040 | C30: CDHU | D30: Armadura em barra de aço CA-50 (A ou B) fyk = 500 Mpa | L30: kg | M30: =(6.6*2.4+17.21)*M20 -> 446.175 | N30: 12.65 | O30: =M30*N30 -> 5644.1137 | P30: =N30*1.2979 -> 16.418435 | Q30: =M30*P30 -> 7325.4952
A31: 2.13 | B31: 14.11.271 | C31: CDHU | D31: Alvenaria de bloco de concreto estrutural 19 x 19 x 39 cm - classe A | L31: m² | M31: 35.1 | N31: 103.41 | O31: =M31*N31 -> 3629.691 | P31: =N31*1.2979 -> 134.21584 | Q31: =M31*P31 -> 4710.9759
A32: 2.14 | B32: 32.17.010 | C32: CDHU | D32: Impermeabilização em argamassa impermeável com aditivo hidrófugo | L32: m³ | M32: 0.71 | N32: 655.03 | O32: =M32*N32 -> 465.0713 | P32: =N32*1.2979 -> 850.16344 | Q32: =M32*P32 -> 603.61604
A33: 2.15 | B33: 32.16.010 | C33: CDHU | D33: Impermeabilização em pintura de asfalto oxidado com solventes orgânicos, sobre massa | L33: m² | M33: =M31 -> 35.1 | N33: 13.7 | O33: =M33*N33 -> 480.87 | P33: =N33*1.2979 -> 17.78123 | Q33: =M33*P33 -> 624.12117
A34: 2.16 | B34: 11.05.040 | C34: CDHU | D34: Argamassa graute | L34: m³ | M34: 3.6 | N34: 334.05 | O34: =M34*N34 -> 1202.58 | P34: =N34*1.2979 -> 433.5635 | Q34: =M34*P34 -> 1560.8286
A35: 2.17 | B35: 11.16.060 | C35: CDHU | D35: Lançamento e adensamento de concreto ou massa em estrutura | L35: m³ | M35: 3.33 | N35: 84.54 | O35: =M35*N35 -> 281.5182 | P35: =N35*1.2979 -> 109.72447 | Q35: =M35*P35 -> 365.38247
A36: 2.18 | B36: 08.05.100 | C36: CDHU | D36: Dreno com pedra britada | L36: m³ | M36: 11.34 | N36: 103.15 | O36: =M36*N36 -> 1169.721 | P36: =N36*1.2979 -> 133.87839 | Q36: =M36*P36 -> 1518.1809
A37: 2.19 | B37: 08.06.040 | C37: CDHU | D37: Barbacã em tubo de PVC com diâmetro 50 mm | L37: m | M37: =(13.5/1.5)*0.25 -> 2.25 | N37: 23.5 | O37: =M37*N37 -> 52.875 | P37: =N37*1.2979 -> 30.50065 | Q37: =M37*P37 -> 68.626463
A38: 2.20 | B38: 17.02.020 | C38: CDHU | D38: Chapisco | L38: m² | M38: 35.1 | N38: 5.36 | O38: =M38*N38 -> 188.136 | P38: =N38*1.2979 -> 6.956744 | Q38: =M38*P38 -> 244.18171
A39: 2.21 | B39: 46.12.210 | C39: CDHU | D39: Meio tubo de concreto, DN= 300mm | L39: m | M39: 14 | N39: 52 | O39: =M39*N39 -> 728 | P39: =N39*1.2979 -> 67.4908 | Q39: =M39*P39 -> 944.8712
A40: 2.22 | B40: 14.20.020 | C40: CDHU | D40: Cimalha em concreto com pingadeira | L40: m | M40: =M20 -> 13.5 | N40: 8.46 | O40: =M40*N40 -> 114.21 | P40: =N40*1.2979 -> 10.980234 | Q40: =M40*P40 -> 148.23316
O41: =SUM(O19:O40) -> 23497.702 | Q41: =SUM(Q19:Q40) -> 30497.668
A42: 3 | D42: FECHAMENTO EM MURO DE DIVISA H=2,70m + DRENAGEM
A43: 3.1 | D43: MURO
A44: 3.1.1 | B44: 02.10.050 | C44: CDHU | D44: Locação para muros, cercas e alambrados | L44: m | M44: 40 | N44: 1.06 | O44: =M44*N44 -> 42.4 | P44: =N44*1.2979 -> 1.375774 | Q44: =M44*P44 -> 55.03096
A45: 3.1.2 | B45: 02.09.130 | C45: CDHU | D45: Limpeza mecanizada do terreno, inclusive troncos com diâmetro acima de 15 cm até 50 cm, com caminhão à disposição dentro da obra, até o raio de 1 km | L45: m² | M45: =M44*2 -> 80 | N45: 3.1 | O45: =M45*N45 -> 248 | P45: =N45*1.2979 -> 4.02349 | Q45: =M45*P45 -> 321.8792
A46: 3.1.3 | B46: 06.01.020 | C46: CDHU | D46: Escavação manual em solo de 1ª e 2ª categoria em campo aberto | L46: m³ | M46: 1.6 | N46: 36.3 | O46: =M46*N46 -> 58.08 | P46: =N46*1.2979 -> 47.11377 | Q46: =M46*P46 -> 75.382032
A47: 3.1.4 | B47: 12.01.021 | C47: CDHU | D47: Broca em concreto armado diâmetro de 20 cm – completa | L47: m | M47: =21*3 -> 63 | N47: 50.27 | O47: =M47*N47 -> 3167.01 | P47: =N47*1.2979 -> 65.245433 | Q47: =M47*P47 -> 4110.4623
A48: 3.1.5 | B48: 11.18.040 | C48: CDHU | D48: Lastro de pedra britada – 3 cm | L48: m³ | M48: =M44*0.2*0.03 -> 0.24 | N48: 126.26 | O48: =M48*N48 -> 30.3024 | P48: =N48*1.2979 -> 163.87285 | Q48: =M48*P48 -> 39.329485
A49: 3.1.6 | B49: 11.01.130 | C49: CDHU | D49: Concreto usinado, fck = 25 Mpa | L49: m³ | M49: 2.71 | N49: 359.52 | O49: =M49*N49 -> 974.2992 | P49: =N49*1.2979 -> 466.62101 | Q49: =M49*P49 -> 1264.5429
A50: 3.1.7 | B50: 11.16.040 | C50: CDHU | D50: Lançamento e adensamento de concreto ou massa em fundação | L50: m³ | M50: 1.6 | N50: 122.4 | O50: =M50*N50 -> 195.84 | P50: =N50*1.2979 -> 158.86296 | Q50: =M50*P50 -> 254.18074
A51: 3.1.8 | B51: 11.05.040 | C51: CDHU | D51: Argamassa graute | L51: m³ | M51: 1.79 | N51: 334.05 | O51: =M51*N51 -> 597.9495 | P51: =N51*1.2979 -> 433.5635 | Q51: =M51*P51 -> 776.07866
A52: 3.1.9 | B52: 11.16.060 | C52: CDHU | D52: Lançamento e adensamento de concreto ou massa em estrutura | L52: m³ | M52: =1+M51 -> 2.79 | N52: 84.54 | O52: =M52*N52 -> 235.8666 | P52: =N52*1.2979 -> 109.72447 | Q52: =M52*P52 -> 306.13126
A53: 3.1.10 | B53: 09.01.020 | C53: CDHU | D53: Forma em madeira comum para fundação | L53: m² | M53: 20 | N53: 75.25 | O53: =M53*N53 -> 1505 | P53: =N53*1.2979 -> 97.666975 | Q53: =M53*P53 -> 1953.3395
A54: 3.1.11 | B54: 09.01.030 | C54: CDHU | D54: Forma em madeira comum para estrutura | L54: m² | M54: 22.68 | N54: 189.1 | O54: =M54*N54 -> 4288.788 | P54: =N54*1.2979 -> 245.43289 | Q54: =M54*P54 -> 5566.4179
A55: 3.1.12 | B55: 10.01.040 | C55: CDHU | D55: Armadura em barra de aço CA-50 (A ou B) fyk = 500 Mpa | L55: kg | M55: 607.55 | N55: 12.65 | O55: =M55*N55 -> 7685.5075 | P55: =N55*1.2979 -> 16.418435 | Q55: =M55*P55 -> 9975.0202
A56: 3.1.13 | B56: 10.01.060 | C56: CDHU | D56: Armadura em barra de aço CA-60 (A ou B) fyk= 600 MPa | L56: kg | M56: 91.49 | N56: 15.56 | O56: =M56*N56 -> 1423.5844 | P56: =N56*1.2979 -> 20.195324 | Q56: =M56*P56 -> 1847.6702
A57: 3.1.14 | B57: 14.10.111 | C57: CDHU | D57: Alvenaria de bloco de concreto de vedação de 14 x 19 x 39 cm - classe C | L57: m² | M57: 88 | N57: 59.18 | O57: =M57*N57 -> 5207.84 | P57: =N57*1.2979 -> 76.809722 | Q57: =M57*P57 -> 6759.2555
A58: 3.1.15 | B58: 14.10.111 | C58: CDHU | D58: Canaleta de concreto de vedação de 14 x 19 x 39 cm - classe C | L58: m² | M58: 16 | N58: 59.18 | O58: =M58*N58 -> 946.88 | P58: =N58*1.2979 -> 76.809722 | Q58: =M58*P58 -> 1228.9556
A59: 3.1.16 | B59: 17.02.020 | C59: CDHU | D59: Chapisco | L59: m² | M59: =M44*2*2.4 -> 192 | N59: 5.36 | O59: =M59*N59 -> 1029.12 | P59: =N59*1.2979 -> 6.956744 | Q59: =M59*P59 -> 1335.6948
A60: 3.1.17 | B60: 32.16.010 | C60: CDHU | D60: Impermeabilização em pintura de asfalto oxidado com solventes orgânicos, sobre massa | L60: m² | M60: 40 | N60: 13.7 | O60: =M60*N60 -> 548 | P60: =N60*1.2979 -> 17.78123 | Q60: =M60*P60 -> 711.2492
A61: 3.1.18 | B61: 14.20.020 | C61: CDHU | D61: Cimalha em concreto com pingadeira | L61: m | M61: =M44 -> 40 | N61: 8.46 | O61: =M61*N61 -> 338.4 | P61: =N61*1.2979 -> 10.980234 | Q61: =M61*P61 -> 439.20936
A62: 3.1.19 | B62: 46.12.210 | C62: CDHU | D62: Meio tubo de concreto, DN= 300mm | L62: m | M62: 40 | N62: 52 | O62: =M62*N62 -> 2080 | P62: =N62*1.2979 -> 67.4908 | Q62: =M62*P62 -> 2699.632
A63: 3.1.20 | B63: 49.03.020 | C63: CDHU | D63: Caixa em alvenaria, 600 x 600 x 600 mm | L63: un | M63: 1 | N63: 250.11 | O63: =M63*N63 -> 250.11 | P63: =N63*1.2979 -> 324.61777 | Q63: =M63*P63 -> 324.61777
A64: 3.1.21 | B64: 46.13.026 | C64: CDHU | D64: Tubo em polietileno de alta densidade corrugado perfurado, DN= 6´, inclusive conexões | L64: m | M64: 15 | N64: 56.09 | O64: =M64*N64 -> 841.35 | P64: =N64*1.2979 -> 72.799211 | Q64: =M64*P64 -> 1091.9882
A65: 3.1.22 | B65: 08.05.100 | C65: CDHU | D65: Dreno com pedra britada | L65: m³ | M65: 2.4 | N65: 103.15 | O65: =M65*N65 -> 247.56 | P65: =N65*1.2979 -> 133.87839 | Q65: =M65*P65 -> 321.30812
A66: 3.1.23 | B66: 08.05.180 | C66: CDHU | D66: Manta geotêxtil com resistência à tração longitudinal de 10kN/m e transversal de 9kN/m | L66: m² | M66: =M64*1 -> 15 | N66: 13.79 | O66: =M66*N66 -> 206.85 | P66: =N66*1.2979 -> 17.898041 | Q66: =M66*P66 -> 268.47062
O67: =SUM(O44:O66) -> 32148.738 | Q67: =SUM(Q44:Q66) -> 41725.847
A68: 4 | D68: CALÇADA
A69: 4.1 | B69: 02.10.060 | C69: CDHU | D69: Locação de vias, calçadas, tanques e lagoas | L69: m² | M69: 592.4 | N69: 1.44 | O69: =M69*N69 -> 853.056 | P69: =N69*1.2979 -> 1.868976 | Q69: =M69*P69 -> 1107.1814
A70: 4.2 | B70: 07.01.020 | C70: CDHU | D70: Escavação e carga mecanizada em solo de 1ª categoria, em campo aberto | L70: m³ | M70: =M69*0.12 -> 71.088 | N70: 11.64 | O70: =M70*N70 -> 827.46432 | P70: =N70*1.2979 -> 15.107556 | Q70: =M70*P70 -> 1073.9659
A71: 4.3 | B71: 07.11.020 | C71: CDHU | D71: Reaterro compactado mecanizado de vala ou cava com compactador | L71: m³ | M71: =M69*0.03 -> 17.772 | N71: 5.18 | O71: =M71*N71 -> 92.05896 | P71: =N71*1.2979 -> 6.723122 | Q71: =M71*P71 -> 119.48332
A72: 4.4 | B72: 03.01.020 | C72: CDHU | D72: Demolição manual de concreto simples | L72: m³ | M72: =10.3*0.06 -> 0.618 | N72: 159.72 | O72: =M72*N72 -> 98.70696 | P72: =N72*1.2979 -> 207.30059 | Q72: =M72*P72 -> 128.11176
A73: 4.5 | B73: 05.08.220 | C73: CDHU | D73: Carregamento mecanizado de entulho fragmentado, com caminhão à disposição dentro da obra, até o raio de 1 km | L73: m³ | M73: 0.62 | N73: 12.03 | O73: =M73*N73 -> 7.4586 | P73: =N73*1.2979 -> 15.613737 | Q73: =M73*P73 -> 9.6805169
A74: 4.6 | B74: 03.06.050 | C74: CDHU | D74: Desmonte (levantamento) mecanizado de pavimento em paralelepípedo ou lajota de concreto, inclusive carregamento, transporte até 1 quilômetro e descarregamento | L74: m² | M74: 58.06 | N74: 19.13 | O74: =M74*N74 -> 1110.6878 | P74: =N74*1.2979 -> 24.828827 | Q74: =M74*P74 -> 1441.5617
A75: 4.7 | B75: 09.01.030 | C75: CDHU | D75: Forma em madeira comum para estrutura | L75: m² | M75: 27.7 | N75: 189.1 | O75: =M75*N75 -> 5238.07 | P75: =N75*1.2979 -> 245.43289 | Q75: =M75*P75 -> 6798.4911
A76: 4.8 | B76: 11.18.040 | C76: CDHU | D76: Lastro de pedra britada - 3cm | L76: m³ | M76: =M69*0.03 -> 17.772 | N76: 126.26 | O76: =M76*N76 -> 2243.8927 | P76: =N76*1.2979 -> 163.87285 | Q76: =M76*P76 -> 2912.3484
A77: 4.9 | B77: 11.01.130 | C77: CDHU | D77: Concreto usinado, fck = 25,0 Mpa - 6cm | L77: m³ | M77: =M69*0.06 -> 35.544 | N77: 359.52 | O77: =M77*N77 -> 12778.779 | P77: =N77*1.2979 -> 466.62101 | Q77: =M77*P77 -> 16585.577
A78: 4.10 | B78: 11.16.060 | C78: CDHU | D78: Lançamento e adensamento de concreto ou massa em estrutura | L78: m³ | M78: =M77 -> 35.544 | N78: 84.54 | O78: =M78*N78 -> 3004.8898 | P78: =N78*1.2979 -> 109.72447 | Q78: =M78*P78 -> 3900.0464
A79: 4.11 | B79: 10.02.020 | C79: CDHU | D79: Armadura em tela soldada de aço (10x10 - 4,2mm) | L79: kg | M79: =2.2*363.32 -> 799.304 | N79: 12.71 | O79: =M79*N79 -> 10159.154 | P79: =N79*1.2979 -> 16.496309 | Q79: =M79*P79 -> 13185.566
O80: =SUM(O69:O79) -> 36414.218 | Q80: =SUM(Q69:Q79) -> 47262.013
A81: 5 | D81: SERVIÇOS FINAIS
A82: 5.1 | B82: 34.02.100 | C82: CDHU | D82: Plantio de grama esmeralda em placas (jardins e canteiros) | L82: m² | M82: 913.6 | N82: 10.56 | O82: =M82*N82 -> 9647.616 | P82: =N82*1.2979 -> 13.705824 | Q82: =M82*P82 -> 12521.641
O83: =SUM(O82:O82) -> 9647.616 | Q83: =SUM(Q82:Q82) -> 12521.641
N85: TOTAL S/ BDI | O85: =SUM(O17,O41,O67,O80,O83) -> 105735.7 | P85: TOTAL C/ BDI | Q85: =SUM(Q17,Q41,Q67,Q80,Q83) -> 137234.37

Sheet MEMÓRIA DE CÁLCULO
A6: MEMÓRIA DE CÁLCULO
A9: OBRA: ADEQUAÇÃO DO CENTRO DE ZOONOSES MUNICIPAL
A10: LOCAL: RUA FRANCISCO SILVEIRA DINIZ - PARQUE INDUSTRIAL
A12: ITEM | B12: CÓD | C12: FONTE | D12: MATERIAL E MÃO DE OBRA | L12: UND | M12: QUANT | N12: P. UNITÁRIO | O12: P. TOTAL S/BDI | P12: P. UNIT C/ BDI: 29,79% | Q12: P. TOTAL C/BDI | R12: MEMÓRIA DE CÁLCULO
A13: 1 | D13: SERVIÇOS PRELIMINARES
A14: 1.1 | B14: 02.08.020 | C14: CDHU | D14: Placa de identificação de obra | L14: m² | M14: 2.88 | N14: 602.21 | O14: =M14*N14 -> 1734.3648 | P14: =N14*1.2979 -> 781.60836 | Q14: =M14*P14 -> 2251.0321 | R14: >> 2,40X1,20 = 2,88m²
A15: 1.2 | B15: 02.02.150 | C15: CDHU | D15: Locação de container tipo depósito - área mínima de 13,80 m² | L15: unxmês | M15: 4 | N15: 532.98 | O15: =M15*N15 -> 2131.92 | P15: =N15*1.2979 -> 691.75474 | Q15: =M15*P15 -> 2767.019 | R15: >> 4 MESES
O16: =SUM(O14:O15) -> 3866.2848 | Q16: =SUM(Q14:Q15) -> 5018.051
A17: 2 | D17: FECHAMENTO EM MURO DE ARRIMO H=2,60m
A18: 2.1 | B18: 01.17.051 | C18: CDHU | D18: Projeto executivo de estrutura em formato A1 | L18: un | M18: 1 | N18: 1643.32 | O18: =M18*N18 -> 1643.32 | P18: =N18*1.2979 -> 2132.865 | Q18: =M18*P18 -> 2132.865 | R18: >> PROJETO COMPLETO
A19: 2.2 | B19: 02.10.050 | C19: CDHU | D19: Locação para muros, cercas e alambrados | L19: m | M19: 13.5 | N19: 1.01 | O19: =M19*N19 -> 13.635 | P19: =N19*1.2979 -> 1.310879 | Q19: =M19*P19 -> 17.696867 | R19: >> EXTENSÃO DO MURO DE ARRIMO
A20: 2.3 | B20: 03.02.040 | C20: CDHU | D20: Demolição manual de alvenaria de elevação ou elemento vazado, incluindo revestimento | L20: m³ | M20: 3.23 | N20: 55.76 | O20: =M20*N20 -> 180.1048 | P20: =N20*1.2979 -> 72.370904 | Q20: =M20*P20 -> 233.75802 | R20: >> MURO EXISTENTE: 10,77M EXTENSÃO X 2M DE ALTURA X 0,15M LARGURA = 3,23m³
A21: 2.4 | B21: 07.01.060 | C21: CDHU | D21: Escavação e carga mecanizada em solo de 2ª categoria, em campo aberto | L21: m³ | M21: =M19*2*1.7 -> 45.9 | N21: 16.98 | O21: =M21*N21 -> 779.382 | P21: =N21*1.2979 -> 22.038342 | Q21: =M21*P21 -> 1011.5599 | R21: >> ESCAVAÇÃO DO SOLO PARA EXECUÇÃO DO MURO DE ARRIMO = 13,50M X 2M X 1,70M = 45,90m³
A22: 2.5 | B22: 07.11.020 | C22: CDHU | D22: Reaterro compactado mecanizado de vala ou cava com compactador | L22: m³ | M22: =M19*1.3*1.7 -> 29.835 | N22: 4.99 | O22: =M22*N22 -> 148.87665 | P22: =N22*1.2979 -> 6.476521 | Q22: =M22*P22 -> 193.227 | R22: >> REATERRO DO SOLO APÓS A EXECUÇÃO DO MURO DE ARRIMO = 13,50M X 1,30M X 1,70M = 29,84m³
A23: 2.6 | B23: 05.08.220 | C23: CDHU | D23: Carregamento mecanizado de entulho fragmentado, com caminhão à disposição dentro da obra, até o raio de 1 km | L23: m³ | M23: =M20 -> 3.23 | N23: 10.72 | O23: =M23*N23 -> 34.6256 | P23: =N23*1.2979 -> 13.913488 | Q23: =M23*P23 -> 44.940566 | R23: >> RETIRADA DO ENTULHO GERADO APÓS A DEMOLIÇÃO DO MURO EXISTNTE = 3,23m³
A24: 2.7 | B24: 12.01.041 | C24: CDHU | D24: Broca em concreto armado diâmetro de 25 cm - completa | L24: m | M24: 60 | N24: 57.11 | O24: =M24*N24 -> 3426.6 | P24: =N24*1.2979 -> 74.123069 | Q24: =M24*P24 -> 4447.3841 | R24: >> EXTENSÃO = 13,50M / 1,50M = 10 BROCAS X 2 = 20 BROCAS X 3M = 60m
A25: 2.8 | B25: 09.01.020 | C25: CDHU | D25: Forma em madeira comum para fundação | L25: m² | M25: 10.22 | N25: 66.69 | O25: =M25*N25 -> 681.5718 | P25: =N25*1.2979 -> 86.556951 | Q25: =M25*P25 -> 884.61204 | R25: >> FORMA PARA EXECUÇÃO DA SAPATA = 13,50M + 1,10M X 0,35M X 2 = 10,22m²
A26: 2.9 | B26: 11.04.020 | C26: CDHU | D26: Lastro de concreto não estrutural executado no local, mínimo 150 kg cimento / m³ | L26: m³ | M26: =M19*0.055 -> 0.7425 | N26: 255.42 | O26: =M26*N26 -> 189.64935 | P26: =N26*1.2979 -> 331.50962 | Q26: =M26*P26 -> 246.14589 | R26: >> EXTENSÃO = 13,50M X 1,10M X 0,05M = 0,74m³
A27: 2.10 | B27: 11.01.130 | C27: CDHU | D27: Concreto usinado, fck = 25 Mpa | L27: m³ | M27: =M19*0.275 -> 3.7125 | N27: 336.54 | O27: =M27*N27 -> 1249.4048 | P27: =N27*1.2979 -> 436.79527 | Q27: =M27*P27 -> 1621.6024 | R27: >> SAPATA CORRIDA = EXTENSÃO = 13,50M X 1,10M X 0,25M = 3,71m³
A28: 2.11 | B28: 11.16.040 | C28: CDHU | D28: Lançamento e adensamento de concreto ou massa em fundação | L28: m³ | M28: 4.45 | N28: 117.58 | O28: =M28*N28 -> 523.231 | P28: =N28*1.2979 -> 152.60708 | Q28: =M28*P28 -> 679.10151 | R28: >> LASTRO + SAPATA CORRIDA = 0,74M³ + 3,71M³ = 4,45m³
A29: 2.12 | B29: 10.01.040 | C29: CDHU | D29: Armadura em barra de aço CA-50 (A ou B) fyk = 500 Mpa | L29: kg | M29: =(6.6*2.4+17.21)*M19 -> 446.175 | N29: 11.13 | O29: =M29*N29 -> 4965.9277 | P29: =N29*1.2979 -> 14.445627 | Q29: =M29*P29 -> 6445.2776 | R29: >> 6,6 x 2,40M + 17,21 x 13,50M = 446,18kg
A30: 2.13 | B30: 14.11.271 | C30: CDHU | D30: Alvenaria de bloco de concreto estrutural 19 x 19 x 39 cm - classe A | L30: m² | M30: 35.1 | N30: 96.68 | O30: =M30*N30 -> 3393.468 | P30: =N30*1.2979 -> 125.48097 | Q30: =M30*P30 -> 4404.3821 | R30: >> ÁREA DE ALVENARIA = 13,50M X 2,60M = 35,10m²
A31: 2.14 | B31: 32.17.010 | C31: CDHU | D31: Impermeabilização em argamassa impermeável com aditivo hidrófugo | L31: m³ | M31: 0.71 | N31: 601.6 | O31: =M31*N31 -> 427.136 | P31: =N31*1.2979 -> 780.81664 | Q31: =M31*P31 -> 554.37981 | R31: >> EXTENSÃO = 13,50M X 2,60M X 0,02M = 0,71m³
A32: 2.15 | B32: 32.16.010 | C32: CDHU | D32: Impermeabilização em pintura de asfalto oxidado com solventes orgânicos, sobre massa | L32: m² | M32: =M30 -> 35.1 | N32: 12.74 | O32: =M32*N32 -> 447.174 | P32: =N32*1.2979 -> 16.535246 | Q32: =M32*P32 -> 580.38713 | R32: >> PINTURA EM TODA FACE EM CONTATO COM O SOLO = 13,50M X 2,60M = 35,10m²
A33: 2.16 | B33: 11.05.040 | C33: CDHU | D33: Argamassa graute | L33: m³ | M33: 3.6 | N33: 307.01 | O33: =M33*N33 -> 1105.236 | P33: =N33*1.2979 -> 398.46828 | Q33: =M33*P33 -> 1434.4858 | R33: >> 0,095 X 2,60M + 0,019 X 13,50M = 3,60m³
A34: 2.17 | B34: 11.16.060 | C34: CDHU | D34: Lançamento e adensamento de concreto ou massa em estrutura | L34: m³ | M34: 3.33 | N34: 81.22 | O34: =M34*N34 -> 270.4626 | P34: =N34*1.2979 -> 105.41544 | Q34: =M34*P34 -> 351.03341 | R34: >> 0,095 X 2,60M + 0,019 X 13,50M = 3,60m³
A35: 2.18 | B35: 08.05.100 | C35: CDHU | D35: Dreno com pedra britada | L35: m³ | M35: 11.34 | N35: 96.07 | O35: =M35*N35 -> 1089.4338 | P35: =N35*1.2979 -> 124.68925 | Q35: =M35*P35 -> 1413.9761 | R35: >> 0,40 x 2,60M - 0,20M X 13,50M = 11,34m³
A36: 2.19 | B36: 08.06.040 | C36: CDHU | D36: Barbacã em tubo de PVC com diâmetro 50 mm | L36: m | M36: =(13.5/1.5)*0.25 -> 2.25 | N36: 21.64 | O36: =M36*N36 -> 48.69 | P36: =N36*1.2979 -> 28.086556 | Q36: =M36*P36 -> 63.194751 | R36: >> INSTALAÇÃO A CADA 1,50M = 13,50M / 1,50M = 9 X 0,25 = 2,25m
A37: 2.20 | B37: 17.02.020 | C37: CDHU | D37: Chapisco | L37: m² | M37: 35.1 | N37: 5.05 | O37: =M37*N37 -> 177.255 | P37: =N37*1.2979 -> 6.554395 | Q37: =M37*P37 -> 230.05926 | R37: >> FACE INTERNA = 13,50M X 2,60M = 35,10m²
A38: 2.21 | B38: 46.12.210 | C38: CDHU | D38: Meio tubo de concreto, DN= 300mm | L38: m | M38: 14 | N38: 48.61 | O38: =M38*N38 -> 680.54 | P38: =N38*1.2979 -> 63.090919 | Q38: =M38*P38 -> 883.27287 | R38: >>
A39: 2.22 | B39: 14.20.020 | C39: CDHU | D39: Cimalha em concreto com pingadeira | L39: m | M39: =M19 -> 13.5 | N39: 7.98 | O39: =M39*N39 -> 107.73 | P39: =N39*1.2979 -> 10.357242 | Q39: =M39*P39 -> 139.82277 | R39: >> EXTENSÃO DO MURO
O40: =SUM(O18:O39) -> 21583.454 | Q40: =SUM(Q18:Q39) -> 28013.165
A41: 3 | D41: FECHAMENTO EM MURO DE DIVISA H=2,70m + DRENAGEM
A42: 3.1 | D42: MURO
A43: 3.1.1 | B43: 02.10.050 | C43: CDHU | D43: Locação para muros, cercas e alambrados | L43: m | M43: 40 | N43: 1.01 | O43: =M43*N43 -> 40.4 | P43: =N43*1.2979 -> 1.310879 | Q43: =M43*P43 -> 52.43516 | R43: >> EXTENSÃO DO MURO DE FECHAMENTO
A44: 3.1.2 | B44: 02.09.130 | C44: CDHU | D44: Limpeza mecanizada do terreno, inclusive troncos com diâmetro acima de 15 cm até 50 cm, com caminhão à disposição dentro da obra, até o raio de 1 km | L44: m² | M44: =M43*2 -> 80 | N44: 2.75 | O44: =M44*N44 -> 220 | P44: =N44*1.2979 -> 3.569225 | Q44: =M44*P44 -> 285.538 | R44: >> FAIXA COM 2 METROS DE LARGURA = 40M X 2M = 80m²
A45: 3.1.3 | B45: 06.01.020 | C45: CDHU | D45: Escavação manual em solo de 1ª e 2ª categoria em campo aberto | L45: m³ | M45: 1.6 | N45: 34.85 | O45: =M45*N45 -> 55.76 | P45: =N45*1.2979 -> 45.231815 | Q45: =M45*P45 -> 72.370904 | R45: >> ESCAVAÇÃO (VIGA BALDRAME) = 0,20M X 0,20M X 40M = 1,60m³
A46: 3.1.4 | B46: 12.01.021 | C46: CDHU | D46: Broca em concreto armado diâmetro de 20 cm – completa | L46: m | M46: =21*3 -> 63 | N46: 47.49 | O46: =M46*N46 -> 2991.87 | P46: =N46*1.2979 -> 61.637271 | Q46: =M46*P46 -> 3883.1481 | R46: >> EXTENSÃO = 40M / 2M = 20 BROCAS + 01 BROCA (CANTO) X 3M = 63m
A47: 3.1.5 | B47: 11.18.040 | C47: CDHU | D47: Lastro de pedra britada – 3 cm | L47: m³ | M47: =M43*0.2*0.03 -> 0.24 | N47: 117.64 | O47: =M47*N47 -> 28.2336 | P47: =N47*1.2979 -> 152.68496 | Q47: =M47*P47 -> 36.644389 | R47: >> LASTRO (VIGA BALDRAME) = 40M X 0,20M X 0,03 = 0,24m³
A48: 3.1.6 | B48: 11.01.130 | C48: CDHU | D48: Concreto usinado, fck = 25 Mpa | L48: m³ | M48: 2.71 | N48: 336.54 | O48: =M48*N48 -> 912.0234 | P48: =N48*1.2979 -> 436.79527 | Q48: =M48*P48 -> 1183.7152 | R48: >> VIGA BALDRAME = 0,20M X 0,20M X 40M = 1,60M³ + PILAR = 21 UNIDADES X 0,14M X 0,14M X 2,70M = 1,11M³ = TOTAL = 2,71m³
A49: 3.1.7 | B49: 11.16.040 | C49: CDHU | D49: Lançamento e adensamento de concreto ou massa em fundação | L49: m³ | M49: 1.6 | N49: 117.58 | O49: =M49*N49 -> 188.128 | P49: =N49*1.2979 -> 152.60708 | Q49: =M49*P49 -> 244.17133 | R49: >> VIGA BALDRAME = 0,20M X 0,20M X 40M = 1,60M³
A50: 3.1.8 | B50: 11.05.040 | C50: CDHU | D50: Argamassa graute | L50: m³ | M50: 1.79 | N50: 307.01 | O50: =M50*N50 -> 549.5479 | P50: =N50*1.2979 -> 398.46828 | Q50: =M50*P50 -> 713.25822 | R50: >> ARGAMASSA GRAUTE = 0,14M X 0,16M X 40M X 2 = 1,79m³
A51: 3.1.9 | B51: 11.16.060 | C51: CDHU | D51: Lançamento e adensamento de concreto ou massa em estrutura | L51: m³ | M51: =1+M50 -> 2.79 | N51: 81.22 | O51: =M51*N51 -> 226.6038 | P51: =N51*1.2979 -> 105.41544 | Q51: =M51*P51 -> 294.10907 | R51: >> PILAR + CANALETA = 1,11M³ + 1,79M³ =2,90m²
A52: 3.1.10 | B52: 09.01.020 | C52: CDHU | D52: Forma em madeira comum para fundação | L52: m² | M52: 20 | N52: 66.69 | O52: =M52*N52 -> 1333.8 | P52: =N52*1.2979 -> 86.556951 | Q52: =M52*P52 -> 1731.139 | R52: >> VIGA BALDRAME = 0,25M X 40M X 2 = 20m²
A53: 3.1.11 | B53: 09.01.030 | C53: CDHU | D53: Forma em madeira comum para estrutura | L53: m² | M53: 22.68 | N53: 156.11 | O53: =M53*N53 -> 3540.5748 | P53: =N53*1.2979 -> 202.61517 | Q53: =M53*P53 -> 4595.312 | R53: >> PILAR = 0,20M X 2,70M X 21 X 2 = 22,68m²
A54: 3.1.12 | B54: 10.01.040 | C54: CDHU | D54: Armadura em barra de aço CA-50 (A ou B) fyk = 500 Mpa | L54: kg | M54: 607.55 | N54: 11.13 | O54: =M54*N54 -> 6762.0315 | P54: =N54*1.2979 -> 14.445627 | Q54: =M54*P54 -> 8776.4407 | R54: >> VIGA BALDRAME = 4 BARRAS DE 10MM X 40M = 160M X 0,617KG/M = 98,72KG >> PILAR = 4 BARRAS DE 12,5MM X 2,70M X 21 = 226,80M X 0,963KG/M = 218,40KG >> CANALETA + AMARRAÇÃO = 9 BARRAS DE 6,3MM X 40M = 360M X 0,245KG/M = 88,20KG >> BROCA = 4 BARRAS DE 12,5MM X 2,50M X 21 = 210M X 0,963KG/M = 202,23 KG >> TOTAL = 98,72KG + 218,40KG + 88,20KG + 202,23KG = 607,55kg
A55: 3.1.13 | B55: 10.01.060 | C55: CDHU | D55: Armadura em barra de aço CA-60 (A ou B) fyk= 600 MPa | L55: kg | M55: 91.49 | N55: 12 | O55: =M55*N55 -> 1097.88 | P55: =N55*1.2979 -> 15.5748 | Q55: =M55*P55 -> 1424.9385 | R55: >> VIGA BALDRAME = BARRAS DE 5MM = 40M / 0,12M = 334 ESTRIBOS X 0,60M = 201M X 0,154KG/M = 30,95KG >> PILAR = BARRAS DE 5MM = 2,70M / 0,12M = 23 ESTRIBOS X 21 PILARES = 483 ESTRIBOS X 0,50M = 241,50M X 0,154KG/M = 37,19KG >> BROCA = BARRAS DE 4,2MM = 2,50M / 0,15M = 17 ESTRIBOS X 21 BROCAS = 357 ESTRIBOS X 0,60M = 214,20M X 0,109KG/M = 23,35KG >> TOTAL = 30,95KG + 37,19KG + 23,35KG = 91,49kg
A56: 3.1.14 | B56: 14.10.111 | C56: CDHU | D56: Alvenaria de bloco de concreto de vedação de 14 x 19 x 39 cm - classe C | L56: m² | M56: 88 | N56: 54.06 | O56: =M56*N56 -> 4757.28 | P56: =N56*1.2979 -> 70.164474 | Q56: =M56*P56 -> 6174.4737 | R56: >> 11 FIADAS X 40M X 0,20M = 88m²
A57: 3.1.15 | B57: 14.10.111 | C57: CDHU | D57: Canaleta de concreto de vedação de 14 x 19 x 39 cm - classe C | L57: m² | M57: 16 | N57: 54.06 | O57: =M57*N57 -> 864.96 | P57: =N57*1.2979 -> 70.164474 | Q57: =M57*P57 -> 1122.6316 | R57: >> 2 FIADAS X 40M X 0,20M = 16m²
A58: 3.1.16 | B58: 17.02.020 | C58: CDHU | D58: Chapisco | L58: m² | M58: =M43*2*2.4 -> 192 | N58: 5.05 | O58: =M58*N58 -> 969.6 | P58: =N58*1.2979 -> 6.554395 | Q58: =M58*P58 -> 1258.4438 | R58: >> FACE INTERNA E EXTERNA = 40M X 2,40M X 2 = 192m²
A59: 3.1.17 | B59: 32.16.010 | C59: CDHU | D59: Impermeabilização em pintura de asfalto oxidado com solventes orgânicos, sobre massa | L59: m² | M59: 40 | N59: 12.74 | O59: =M59*N59 -> 509.6 | P59: =N59*1.2979 -> 16.535246 | Q59: =M59*P59 -> 661.40984 | R59: >> FACE INTERNA E EXTERNA = 40M X 0,50M X 2 = 40m²
A60: 3.1.18 | B60: 14.20.020 | C60: CDHU | D60: Cimalha em concreto com pingadeira | L60: m | M60: =M43 -> 40 | N60: 7.98 | O60: =M60*N60 -> 319.2 | P60: =N60*1.2979 -> 10.357242 | Q60: =M60*P60 -> 414.28968 | R60: >> EXTENSÃO DO MURO
A61: 3.1.19 | B61: 46.12.210 | C61: CDHU | D61: Meio tubo de concreto, DN= 300mm | L61: m | M61: 40 | N61: 48.61 | O61: =M61*N61 -> 1944.4 | P61: =N61*1.2979 -> 63.090919 | Q61: =M61*P61 -> 2523.6368 | R61: >> EXTENSÃO DO MURO
A62: 3.1.20 | B62: 49.03.020 | C62: CDHU | D62: Caixa em alvenaria, 600 x 600 x 600 mm | L62: un | M62: 1 | N62: 235 | O62: =M62*N62 -> 235 | P62: =N62*1.2979 -> 305.0065 | Q62: =M62*P62 -> 305.0065 | R62: >> 1 CAIXA
A63: 3.1.21 | B63: 46.13.026 | C63: CDHU | D63: Tubo em polietileno de alta densidade corrugado perfurado, DN= 6´, inclusive conexões | L63: m | M63: 15 | N63: 47.56 | O63: =M63*N63 -> 713.4 | P63: =N63*1.2979 -> 61.728124 | Q63: =M63*P63 -> 925.92186 | R63: >>
A64: 3.1.22 | B64: 08.05.100 | C64: CDHU | D64: Dreno com pedra britada | L64: m³ | M64: 2.4 | N64: 96.07 | O64: =M64*N64 -> 230.568 | P64: =N64*1.2979 -> 124.68925 | Q64: =M64*P64 -> 299.25421 | R64: >> VALA = 0,40M X 0,40M X 15M = 2,40m³
A65: 3.1.23 | B65: 08.05.180 | C65: CDHU | D65: Manta geotêxtil com resistência à tração longitudinal de 10kN/m e transversal de 9kN/m | L65: m² | M65: =M63*1 -> 15 | N65: 12.98 | O65: =M65*N65 -> 194.7 | P65: =N65*1.2979 -> 16.846742 | Q65: =M65*P65 -> 252.70113 | R65: >> 1,0M X 15M = 15m²
O66: =SUM(O43:O65) -> 28685.561 | Q66: =SUM(Q43:Q65) -> 37230.99
A67: 4 | D67: CALÇADA
A68: 4.1 | B68: 02.10.060 | C68: CDHU | D68: Locação de vias, calçadas, tanques e lagoas | L68: m² | M68: 592.4 | N68: 1.29 | O68: =M68*N68 -> 764.196 | P68: =N68*1.2979 -> 1.674291 | Q68: =M68*P68 -> 991.84999 | R68: >>
A69: 4.2 | B69: 07.01.020 | C69: CDHU | D69: Escavação e carga mecanizada em solo de 1ª categoria, em campo aberto | L69: m³ | M69: =M68*0.12 -> 71.088 | N69: 10.38 | O69: =M69*N69 -> 737.89344 | P69: =N69*1.2979 -> 13.472202 | Q69: =M69*P69 -> 957.7119 | R69: >> 592,40M² X 0,12M = 71,09m³
A70: 4.3 | B70: 07.11.020 | C70: CDHU | D70: Reaterro compactado mecanizado de vala ou cava com compactador | L70: m³ | M70: =M68*0.03 -> 17.772 | N70: 4.99 | O70: =M70*N70 -> 88.68228 | P70: =N70*1.2979 -> 6.476521 | Q70: =M70*P70 -> 115.10073 | R70: >> 592,40M² x 0,03M = 17,77m³
A71: 4.4 | B71: 03.01.020 | C71: CDHU | D71: Demolição manual de concreto simples | L71: m³ | M71: =10.3*0.06 -> 0.618 | N71: 153.34 | O71: =M71*N71 -> 94.76412 | P71: =N71*1.2979 -> 199.01999 | Q71: =M71*P71 -> 122.99435 | R71: >> DEMOLIÇÃO DA CALÇADA EXISTENTE = 10,30M² X 0,06M = 0,62m³
A72: 4.5 | B72: 05.08.220 | C72: CDHU | D72: Carregamento mecanizado de entulho fragmentado, com caminhão à disposição dentro da obra, até o raio de 1 km | L72: m³ | M72: 0.62 | N72: 10.72 | O72: =M72*N72 -> 6.6464 | P72: =N72*1.2979 -> 13.913488 | Q72: =M72*P72 -> 8.6263626 | R72: >> RETIRADA DO ENTULHO GERADO APÓS A DEMOLIÇÃO DA CALÇADA = 0,62m³
A73: 4.6 | B73: 03.06.050 | C73: CDHU | D73: Desmonte (levantamento) mecanizado de pavimento em paralelepípedo ou lajota de concreto, inclusive carregamento, transporte até 1 quilômetro e descarregamento | L73: m² | M73: 58.06 | N73: 17.58 | O73: =M73*N73 -> 1020.6948 | P73: =N73*1.2979 -> 22.817082 | Q73: =M73*P73 -> 1324.7598 | R73: >> DESMONTE DE 58,06m²
A74: 4.7 | B74: 09.01.030 | C74: CDHU | D74: Forma em madeira comum para estrutura | L74: m² | M74: 27.7 | N74: 156.11 | O74: =M74*N74 -> 4324.247 | P74: =N74*1.2979 -> 202.61517 | Q74: =M74*P74 -> 5612.4402 | R74: >> FORMA PARA EXECUÇÃO DAS CALÇADAS = EXTENSÃO = 277M X 0,10M = 27,70m²
A75: 4.8 | B75: 11.18.040 | C75: CDHU | D75: Lastro de pedra britada - 3cm | L75: m³ | M75: =M68*0.03 -> 17.772 | N75: 117.64 | O75: =M75*N75 -> 2090.6981 | P75: =N75*1.2979 -> 152.68496 | Q75: =M75*P75 -> 2713.517 | R75: >> LASTRO = 592,40M² X 0,03M = 17,77m³
A76: 4.9 | B76: 11.01.130 | C76: CDHU | D76: Concreto usinado, fck = 25,0 Mpa - 6cm | L76: m³ | M76: =M68*0.06 -> 35.544 | N76: 336.54 | O76: =M76*N76 -> 11961.978 | P76: =N76*1.2979 -> 436.79527 | Q76: =M76*P76 -> 15525.451 | R76: >> CONCRETO = 592,40M² X 0,06M = 35,54m³
A77: 4.10 | B77: 11.16.060 | C77: CDHU | D77: Lançamento e adensamento de concreto ou massa em estrutura | L77: m³ | M77: =M76 -> 35.544 | N77: 81.22 | O77: =M77*N77 -> 2886.8837 | P77: =N77*1.2979 -> 105.41544 | Q77: =M77*P77 -> 3746.8863 | R77: >> 35,54m³
A78: 4.11 | B78: 10.02.020 | C78: CDHU | D78: Armadura em tela soldada de aço (10x10 - 4,2mm) | L78: kg | M78: =2.2*363.32 -> 799.304 | N78: 9.79 | O78: =M78*N78 -> 7825.1862 | P78: =N78*1.2979 -> 12.706441 | Q78: =M78*P78 -> 10156.309 | R78: >> ARMADURA NAS CALÇADAS ONDE HAVERÁ TRÁFEGO DE VEÍCULOS = 363,32M² X 2,2KG/M² = 799,30kg
O79: =SUM(O68:O78) -> 31801.87 | Q79: =SUM(Q68:Q78) -> 41275.647
A80: 5 | D80: SERVIÇOS FINAIS
A81: 5.1 | B81: 34.02.100 | C81: CDHU | D81: Plantio de grama esmeralda em placas (jardins e canteiros) | L81: m² | M81: 913.6 | N81: 9.9 | O81: =M81*N81 -> 9044.64 | P81: =N81*1.2979 -> 12.84921 | Q81: =M81*P81 -> 11739.038 | R81: >> CONFORME PROJETO
O82: =SUM(O81:O81) -> 9044.64 | Q82: =SUM(Q81:Q81) -> 11739.038
N84: TOTAL S/ BDI | O84: =SUM(O16,O40,O66,O79,O82) -> 94981.81 | P84: TOTAL C/ BDI | Q84: =SUM(Q16,Q40,Q66,Q79,Q82) -> 123276.89

Sheet CRONOGRAMA
A3: CRONOGRAMA FÍSICO-FINANCEIRO
A5: OBRA: ADEQUAÇÃO DO CENTRO DE ZOONOSES MUNICIPAL LOCAL: RUA FRANCISCO SILVEIRA DINIZ - PARQUE INDUSTRIAL | D5: PRAZO DA OBRA: 120 DIAS
A6: ITEM | B6: DESCRIMINAÇÃO | C6: ETAPA | D6: 30 DIAS | E6: 60 DIAS | F6: 90 DIAS | G6: 120 DIAS
A7: 1 | B7: SERVIÇOS PRELIMINARES | C7: ='PLANILHA ORÇAMENTÁRIA'!Q17 -> 5227.2019 | D7: =2321.57+726.43 -> 3048 | E7: 726.4 | F7: 726.4 | G7: 726.4
B8: % | C8: =C7/C18 -> 0.038089597 | D8: =D7/C7 -> 0.58310355 | E8: =E7/C7 -> 0.13896536 | F8: =F7/C7 -> 0.13896536 | G8: =G7/C7 -> 0.13896536
A9: 2 | B9: FECHAMENTO EM MURO DE ARRIMO H=2,60m | C9: ='PLANILHA ORÇAMENTÁRIA'!Q41 -> 30497.668 | D9: =C9/2 -> 15248.834 | E9: =C9/2 -> 15248.834
B10: % | C10: =C9/C18 -> 0.22223054 | D10: =D9/C9 -> 0.5 | E10: =E9/C9 -> 0.5
A11: 3 | B11: FECHAMENTO EM MURO DE DIVISA H=2,70m + DRENAGEM | C11: ='PLANILHA ORÇAMENTÁRIA'!Q67 -> 41725.847 | E11: 20862.93 | F11: =C11/2 -> 20862.923
B12: % | C12: =C11/C18 -> 0.30404808 | E12: =E11/C11 -> 0.50000016 | F12: =F11/C11 -> 0.5
A13: 4 | B13: CALÇADA | C13: ='PLANILHA ORÇAMENTÁRIA'!Q80 -> 47262.013 | E13: =C13/2 -> 23631.007 | F13: 18904.8 | G13: 4726.2
B14: % | C14: =C13/C18 -> 0.34438904 | E14: =E13/C13 -> 0.5 | F14: =F13/C13 -> 0.39999989 | G14: =G13/C13 -> 0.099999972
A15: 5 | B15: SERVIÇOS FINAIS | C15: ='PLANILHA ORÇAMENTÁRIA'!Q83 -> 12521.641 | G15: =C15 -> 12521.641
B16: % | C16: =C15/C18 -> 0.091242746 | G16: =G15/C15 -> 1
A18: RESUMO DO ORÇAMENTO | C18: =C7+C9+C11+C13+C15 -> 137234.37
A19: TOTAL (R$) | D19: =D7+D9 -> 18296.834 | E19: =E7+E9+E11+E13 -> 60469.171 | F19: =F7+F11+F13 -> 40494.123 | G19: =G7+G13+G15 -> 17974.241
A20: TOTAL (%) | D20: =D19/C18 -> 0.13332545 | E20: =E19/C18 -> 0.44062701 | F20: =F19/C18 -> 0.29507275 | G20: =G19/C18 -> 0.13097477
A21: ACUMULADO (R$) | D21: =D19 -> 18296.834 | E21: =D21+E19 -> 78766.005 | F21: =F19+E21 -> 119260.13 | G21: =F21+G19 -> 137234.37
A22: ACUMULADO (%) | D22: =D20 -> 0.13332545 | E22: =D22+E20 -> 0.57395246 | F22: =F20+E22 -> 0.86902521 | G22: =F22+G20 -> 0.99999999
A24: Obs.: 1 - Os prazos das etapas serão considerados a partir da data da assinatura da ordem de serviço inicial emitida pela prefeitura.
