Workbook

Sheet PLANILHA ORÇAMENTÁRIA
A6: PLANILHA ORÇAMENTÁRIA
O8: DATA-BASE: TABELAS DESONERADAS
A9: OBRA: ADEQUAÇÃO DO CENTRO DE ZOONOSES MUNICIPAL | O9: CDHU | Q9: 183
A10: LOCAL: RUA FRANCISCO SILVEIRA DINIZ - PARQUE INDUSTRIAL | O10: LEIS SOCIAIS | Q10: 0.9778
O11: BDI | Q11: 0.2979
A13: ITEM | B13: CÓD | C13: FONTE | D13: MATERIAL E MÃO DE OBRA | L13: UND | M13: QUANT | N13: P. UNITÁRIO | O13: P. TOTAL S/BDI | P13: P. UNIT C/ BDI: 29,79% | Q13: P. TOTAL C/BDI
A14: 1 | D14: SERVIÇOS PRELIMINARES
A15: 1.1 | B15: 02.08.020 | C15: CDHU | D15: Placa de identificação de obra | L15: m² | M15: 2.88 | N15: 621.08 | O15: =M15*N15 -> 1788.7104 | P15: =N15*1.2979 -> 806.09973 | Q15: =M15*P15 -> 2321.5672
A16: 1.2 | B16: 02.02.150 | C16: CDHU | D16: Locação de container tipo depósito - área mínima de 13,80 m² | L16: unxmês | M16: 4 | N16: 559.68 | O16: =M16*N16 -> 2238.72 | P16: =N16*1.2979 -> 726.40867 | Q16: =M16*P16 -> 2905.6347
O17: =SUM(O15:O16) -> 4027.4304 | Q17: =SUM(Q15:Q16) -> 5227.2019
A18: 2 | D18: FECHAMENTO EM MURO DE ARRIMO H=2,60m
A19: 2.1 | B19: 01.17.051 | C19: CDHU | D19: Projeto executivo de estrutura em formato A1 | L19: un | M19: 1 | N19: 1767.99 | O19: =M19*N19 -> 1767.99 | P19: =N19*1.2979 -> 2294.6742 | Q19: =M19*P19 -> 2294.6742
A20: 2.2 | B20: 02.10.050 | C20: CDHU | D20: Locação para muros, cercas e alambrados | L20: m | M20: 13.5 | N20: 1.06 | O20: =M20*N20 -> 14.31 | P20: =N20*1.2979 -> 1.375774 | Q20: =M20*P20 -> 18.572949
A21: 2.3 | B21: 03.02.040 | C21: CDHU | D21: Demolição manual de alvenaria de elevação ou elemento vazado, incluindo revestimento | L21: m³ | M21: 3.23 | N21: 58.08 | O21: =M21*N21 -> 187.5984 | P21: =N21*1.2979 -> 75.382032 | Q21: =M21*P21 -> 243.48396
A22: 2.4 | B22: 07.01.060 | C22: CDHU | D22: Escavação e carga mecanizada em solo de 2ª categoria, em campo aberto | L22: m³ | M22: =M20*2*1.7 -> 45.9 | N22: 19.11 | O22: =M22*N22 -> 877.149 | P22: =N22*1.2979 -> 24.802869 | Q22: =M22*P22 -> 1138.4517
A23: 2.5 | B23: 07.11.020 | C23: CDHU | D23: Reaterro compactado mecanizado de vala ou cava com compactador | L23: m³ | M23: =M20*1.3*1.7 -> 29.835 | N23: 5.18 | O23: =M23*N23 -> 154.5453 | P23: =N23*1.2979 -> 6.723122 | Q23: =M23*P23 -> 200.58434
A24: 2.6 | B24: 05.08.220 | C24: CDHU | D24: Carregamento mecanizado de entulho fragmentado, com caminhão à disposição dentro da obra, até o raio de 1 km | L24: m³ | M24: =M21 -> 3.23 | N24: 12.03 | O24: =M24*N24 -> 38.8569 | P24: =N24*1.2979 -> 15.613737 | Q24: =M24*P24 -> 50.432371
A25: 2.7 | B25: 12.01.041 | C25: CDHU | D25: Broca em concreto armado diâmetro de 25 cm - completa | L25: m | M25: 60 | N25: 60.77 | O25: =M25*N25 -> 3646.2 | P25: =N25*1.2979 -> 78.873383 | Q25: =M25*P25 -> 4732.403
A26: 2.8 | B26: 09.01.020 | C26: CDHU | D26: Forma em madeira comum para fundação | L26: m² | M26: 10.22 | N26: 75.25 | O26: =M26*N26 -> 769.055 | P26: =N26*1.2979 -> 97.666975 | Q26: =M26*P26 -> 998.15648
A27: 2.9 | B27: 11.04.020 | C27: CDHU | D27: Lastro de concreto não estrutural executado no local, mínimo 150 kg cimento / m³ | L27: m³ | M27: =M20*0.055 -> 0.7425 | N27: 277.19 | O27: =M27*N27 -> 205.81358 | P27: =N27*1.2979 -> 359.7649 | Q27: =M27*P27 -> 267.12544
A28: 2.10 | B28: 11.01.130 | C28: CDHU | D28: Concreto usinado, fck = 25 Mpa | L28: m³ | M28: =M20*0.275 -> 3.7125 | N28: 359.52 | O28: =M28*N28 -> 1334.718 | P28: =N28*1.2979 -> 466.62101 | Q28: =M28*P28 -> 1732.3305
A29: 2.11 | B29: 11.16.040 | C29: CDHU | D29: Lançamento e adensamento de concreto ou massa em fundação | L29: m³ | M29: 4.45 | N29: 122.4 | O29: =M29*N29 -> 544.68 | P29: =N29*1.2979 -> 158.86296 | Q29: =M29*P29 -> 706.94017
A30: 2.12 | B30: 10.01.040 | C30: CDHU | D30: Armadura em barra de aço CA-50 (A ou B) fyk = 500 Mpa | L30: kg | M30: =(6.6*2.4+17.21)*M20 -> 446.175 | N30: 12.65 | O30: =M30*N30 -> 5644.1137 | P30: =N30*1.2979 -> 16.418435 | Q30: =M30*P30 -> 7325.4952
A31: 2.13 | B31: 14.11.271 | C31: CDHU | D31: Alvenaria de bloco de concreto estrutural 19 x 19 x 39 cm - classe A | L31: m² | M31: 35.1 | N31: 103.41 | O31: =M31*N31 -> 3629.691 | P31: =N31*1.2979 -> 134.21584 | Q31: =M31*P31 -> 4710.9759
A32: 2.14 | B32: 32.17.010 | C32: CDHU | D32: Impermeabilização em argamassa impermeável com aditivo hidrófugo | L32: m³ | M32: 0.71 | N32: 655.03 | O32: =M32*N32 -> 465.0713 | P32: =N32*1.2979 -> 850.16344 | Q32: =M32*P32 -> 603.61604
A33: 2.15 | B33: 32.16.010 | C33: CDHU | D33: Impermeabilização em pintura de asfalto oxidado com solventes orgânicos, sobre massa | L33: m² | M33: =M31 -> 35.1 | N33: 13.7 | O33: =M33*N33 -> 480.87 | P33: =N33*1.2979 -> 17.78123 | Q33: =M33*P33 -> 624.12117
A34: 2.16 | B34: 11.05.040 | C34: CDHU | D34: Argamassa graute | L34: m³ | M34: 3.6 | N34: 334.05 | O34: =M34*N34 -> 1202.58 | P34: =N34*1.2979 -> 433.5635 | Q34: =M34*P34 -> 1560.8286
A35: 2.17 | B35: 11.16.060 | C35: CDHU | D35: Lançamento e adensamento de concreto ou massa em estrutura | L35: m³ | M35: 3.33 | N35: 84.54 | O35: =M35*N35 -> 281.5182 | P35: =N35*1.2979 -> 109.72447 | Q35: =M35*P35 -> 365.38247
A36: 2.18 | B36: 08.05.100 | C36: CDHU | D36: Dreno com pedra britada | L36: m³ | M36: 11.34 | N36: 103.15 | O36: =M36*N36 -> 1169.721 | P36: =N36*1.2979 -> 133.87839 | Q36: =M36*P36 -> 1518.1809
A37: 2.19 | B37: 08.06.040 | C37: CDHU | D37: Barbacã em tubo de PVC com diâmetro 50 mm | L37: m | M37: =(13.5/1.5)*0.25 -> 2.25 | N37: 23.5 | O37: =M37*N37 -> 52.875 | P37: =N37*1.2979 -> 30.50065 | Q37: =M37*P37 -> 68.626463
A38: 2.20 | B38: 17.02.020 | C38: CDHU | D38: Chapisco | L38: m² | M38: 35.1 | N38: 5.36 | O38: =M38*N38 -> 188.136 | P38: =N38*1.2979 -> 6.956744 | Q38: =M38*P38 -> 244.18171
A39: 2.21 | B39: 46.12.210 | C39: CDHU | D39: Meio tubo de concreto, DN= 300mm | L39: m | M39: 14 | N39: 52 | O39: =M39*N39 -> 728 | P39: =N39*1.2979 -> 67.4908 | Q39: =M39*P39 -> 944.8712
A40: 2.22 | B40: 14.20.020 | C40: CDHU | D40: Cimalha em concreto com pingadeira | L40: m | M40: =M20 -> 13.5 | N40: 8.46 | O40: =M40*N40 -> 114.21 | P40: =N40*1.2979 -> 10.980234 | Q40: =M40*P40 -> 148.23316
O41: =SUM(O19:O40) -> 23497.702 | Q41: =SUM(Q19:Q40) -> 30497.668
A42: 3 | D42: FECHAMENTO EM MURO DE DIVISA H=2,70m + DRENAGEM
A43: 3.1 | D43: MURO
A44: 3.1.1 | B44: 02.10.050 | C44: CDHU | D44: Locação para muros, cercas e alambrados | L44: m | M44: 40 | N44: 1.06 | O44: =M44*N44 -> 42.4 | P44: =N44*1.2979 -> 1.375774 | Q44: =M44*P44 -> 55.03096
A45: 3.1.2 | B45: 02.09.130 | C45: CDHU | D45: Limpeza mecanizada do terreno, inclusive troncos com diâmetro acima de 15 cm até 50 cm, com caminhão à disposição dentro da obra, até o raio de 1 km | L45: m² | M45: =M44*2 -> 80 | N45: 3.1 | O45: =M45*N45 -> 248 | P45: =N45*1.2979 -> 4.02349 | Q45: =M45*P45 -> 321.8792
A46: 3.1.3 | B46: 06.01.020 | C46: CDHU | D46: Escavação manual em solo de 1ª e 2ª categoria em campo aberto | L46: m³ | M46: 1.6 | N46: 36.3 | O46: =M46*N46 -> 58.08 | P46: =N46*1.2979 -> 47.11377 | Q46: =M46*P46 -> 75.382032
A47: 3.1.4 | B47: 12.01.021 | C47: CDHU | D47: Broca em concreto armado diâmetro de 20 cm – completa | L47: m | M47: =21*3 -> 63 | N47: 50.27 | O47: =M47*N47 -> 3167.01 | P47: =N47*1.2979 -> 65.245433 | Q47: =M47*P47 -> 4110.4623
...

Sheet MEMÓRIA DE CÁLCULO
A6: MEMÓRIA DE CÁLCULO
A9: OBRA: ADEQUAÇÃO DO CENTRO DE ZOONOSES MUNICIPAL
A10: LOCAL: RUA FRANCISCO SILVEIRA DINIZ - PARQUE INDUSTRIAL
A12: ITEM | B12: CÓD | C12: FONTE | D12: MATERIAL E MÃO DE OBRA | L12: UND | M12: QUANT | N12: P. UNITÁRIO | O12: P. TOTAL S/BDI | P12: P. UNIT C/ BDI: 29,79% | Q12: P. TOTAL C/BDI | R12: MEMÓRIA DE CÁLCULO
A13: 1 | D13: SERVIÇOS PRELIMINARES
A14: 1.1 | B14: 02.08.020 | C14: CDHU | D14: Placa de identificação de obra | L14: m² | M14: 2.88 | N14: 602.21 | O14: =M14*N14 -> 1734.3648 | P14: =N14*1.2979 -> 781.60836 | Q14: =M14*P14 -> 2251.0321 | R14: >> 2,40X1,20 = 2,88m²
A15: 1.2 | B15: 02.02.150 | C15: CDHU | D15: Locação de container tipo depósito - área mínima de 13,80 m² | L15: unxmês | M15: 4 | N15: 532.98 | O15: =M15*N15 -> 2131.92 | P15: =N15*1.2979 -> 691.75474 | Q15: =M15*P15 -> 2767.019 | R15: >> 4 MESES
O16: =SUM(O14:O15) -> 3866.2848 | Q16: =SUM(Q14:Q15) -> 5018.051
A17: 2 | D17: FECHAMENTO EM MURO DE ARRIMO H=2,60m
A18: 2.1 | B18: 01.17.051 | C18: CDHU | D18: Projeto executivo de estrutura em formato A1 | L18: un | M18: 1 | N18: 1643.32 | O18: =M18*N18 -> 1643.32 | P18: =N18*1.2979 -> 2132.865 | Q18: =M18*P18 -> 2132.865 | R18: >> PROJETO COMPLETO
A19: 2.2 | B19: 02.10.050 | C19: CDHU | D19: Locação para muros, cercas e alambrados | L19: m | M19: 13.5 | N19: 1.01 | O19: =M19*N19 -> 13.635 | P19: =N19*1.2979 -> 1.310879 | Q19: =M19*P19 -> 17.696867 | R19: >> EXTENSÃO DO MURO DE ARRIMO
A20: 2.3 | B20: 03.02.040 | C20: CDHU | D20: Demolição manual de alvenaria de elevação ou elemento vazado, incluindo revestimento | L20: m³ | M20: 3.23 | N20: 55.76 | O20: =M20*N20 -> 180.1048 | P20: =N20*1.2979 -> 72.370904 | Q20: =M20*P20 -> 233.75802 | R20: >> MURO EXISTENTE: 10,77M EXTENSÃO X 2M DE ALTURA X 0,15M LARGURA = 3,23m³
A21: 2.4 | B21: 07.01.060 | C21: CDHU | D21: Escavação e carga mecanizada em solo de 2ª categoria, em campo aberto | L21: m³ | M21: =M19*2*1.7 -> 45.9 | N21: 16.98 | O21: =M21*N21 -> 779.382 | P21: =N21*1.2979 -> 22.038342 | Q21: =M21*P21 -> 1011.5599 | R21: >> ESCAVAÇÃO DO SOLO PARA EXECUÇÃO DO MURO DE ARRIMO = 13,50M X 2M X 1,70M = 45,90m³
A22: 2.5 | B22: 07.11.020 | C22: CDHU | D22: Reaterro compactado mecanizado de vala ou cava com compactador | L22: m³ | M22: =M19*1.3*1.7 -> 29.835 | N22: 4.99 | O22: =M22*N22 -> 148.87665 | P22: =N22*1.2979 -> 6.476521 | Q22: =M22*P22 -> 193.227 | R22: >> REATERRO DO SOLO APÓS A EXECUÇÃO DO MURO DE ARRIMO = 13,50M X 1,30M X 1,70M = 29,84m³
A23: 2.6 | B23: 05.08.220 | C23: CDHU | D23: Carregamento mecanizado de entulho fragmentado, com caminhão à disposição dentro da obra, até o raio de 1 km | L23: m³ | M23: =M20 -> 3.23 | N23: 10.72 | O23: =M23*N23 -> 34.6256 | P23: =N23*1.2979 -> 13.913488 | Q23: =M23*P23 -> 44.940566 | R23: >> RETIRADA DO ENTULHO GERADO APÓS A DEMOLIÇÃO DO MURO EXISTNTE = 3,23m³
A24: 2.7 | B24: 12.01.041 | C24: CDHU | D24: Broca em concreto armado diâmetro de 25 cm - completa | L24: m | M24: 60 | N24: 57.11 | O24: =M24*N24 -> 3426.6 | P24: =N24*1.2979 -> 74.123069 | Q24: =M24*P24 -> 4447.3841 | R24: >> EXTENSÃO = 13,50M / 1,50M = 10 BROCAS X 2 = 20 BROCAS X 3M = 60m
A25: 2.8 | B25: 09.01.020 | C25: CDHU | D25: Forma em madeira comum para fundação | L25: m² | M25: 10.22 | N25: 66.69 | O25: =M25*N25 -> 681.5718 | P25: =N25*1.2979 -> 86.556951 | Q25: =M25*P25 -> 884.61204 | R25: >> FORMA PARA EXECUÇÃO DA SAPATA = 13,50M + 1,10M X 0,35M X 2 = 10,22m²
A26: 2.9 | B26: 11.04.020 | C26: CDHU | D26: Lastro de concreto não estrutural executado no local, mínimo 150 kg cimento / m³ | L26: m³ | M26: =M19*0.055 -> 0.7425 | N26: 255.42 | O26: =M26*N26 -> 189.64935 | P26: =N26*1.2979 -> 331.50962 | Q26: =M26*P26 -> 246.14589 | R26: >> EXTENSÃO = 13,50M X 1,10M X 0,05M = 0,74m³
A27: 2.10 | B27: 11.01.130 | C27: CDHU | D27: Concreto usinado, fck = 25 Mpa | L27: m³ | M27: =M19*0.275 -> 3.7125 | N27: 336.54 | O27: =M27*N27 -> 1249.4048 | P27: =N27*1.2979 -> 436.79527 | Q27: =M27*P27 -> 1621.6024 | R27: >> SAPATA CORRIDA = EXTENSÃO = 13,50M X 1,10M X 0,25M = 3,71m³
A28: 2.11 | B28: 11.16.040 | C28: CDHU | D28: Lançamento e adensamento de concreto ou massa em fundação | L28: m³ | M28: 4.45 | N28: 117.58 | O28: =M28*N28 -> 523.231 | P28: =N28*1.2979 -> 152.60708 | Q28: =M28*P28 -> 679.10151 | R28: >> LASTRO + SAPATA CORRIDA = 0,74M³ + 3,71M³ = 4,45m³
A29: 2.12 | B29: 10.01.040 | C29: CDHU | D29: Armadura em barra de aço CA-50 (A ou B) fyk = 500 Mpa | L29: kg | M29: =(6.6*2.4+17.21)*M19 -> 446.175 | N29: 11.13 | O29: =M29*N29 -> 4965.9277 | P29: =N29*1.2979 -> 14.445627 | Q29: =M29*P29 -> 6445.2776 | R29: >> 6,6 x 2,40M + 17,21 x 13,50M = 446,18kg
A30: 2.13 | B30: 14.11.271 | C30: CDHU | D30: Alvenaria de bloco de concreto estrutural 19 x 19 x 39 cm - classe A | L30: m² | M30: 35.1 | N30: 96.68 | O30: =M30*N30 -> 3393.468 | P30: =N30*1.2979 -> 125.48097 | Q30: =M30*P30 -> 4404.3821 | R30: >> ÁREA DE ALVENARIA = 13,50M X 2,60M = 35,10m²
A31: 2.14 | B31: 32.17.010 | C31: CDHU | D31: Impermeabilização em argamassa impermeável com aditivo hidrófugo | L31: m³ | M31: 0.71 | N31: 601.6 | O31: =M31*N31 -> 427.136 | P31: =N31*1.2979 -> 780.81664 | Q31: =M31*P31 -> 554.37981 | R31: >> EXTENSÃO = 13,50M X 2,60M X 0,02M = 0,71m³
A32: 2.15 | B32: 32.16.010 | C32: CDHU | D32: Impermeabilização em pintura de asfalto oxidado com solventes orgânicos, sobre massa | L32: m² | M32: =M30 -> 35.1 | N32: 12.74 | O32: =M32*N32 -> 447.174 | P32: =N32*1.2979 -> 16.535246 | Q32: =M32*P32 -> 580.38713 | R32: >> PINTURA EM TODA FACE EM CONTATO COM O SOLO = 13,50M X 2,60M = 35,10m²
A33: 2.16 | B33: 11.05.040 | C33: CDHU | D33: Argamassa graute | L33: m³ | M33: 3.6 | N33: 307.01 | O33: =M33*N33 -> 1105.236 | P33: =N33*1.2979 -> 398.46828 | Q33: =M33*P33 -> 1434.4858 | R33: >> 0,095 X 2,60M + 0,019 X 13,50M = 3,60m³
A34: 2.17 | B34: 11.16.060 | C34: CDHU | D34: Lançamento e adensamento de concreto ou massa em estrutura | L34: m³ | M34: 3.33 | N34: 81.22 | O34: =M34*N34 -> 270.4626 | P34: =N34*1.2979 -> 105.41544 | Q34: =M34*P34 -> 351.03341 | R34: >> 0,095 X 2,60M + 0,019 X 13,50M = 3,60m³
A35: 2.18 | B35: 08.05.100 | C35: CDHU | D35: Dreno com pedra britada | L35: m³ | M35: 11.34 | N35: 96.07 | O35: =M35*N35 -> 1089.4338 | P35: =N35*1.2979 -> 124.68925 | Q35: =M35*P35 -> 1413.9761 | R35: >> 0,40 x 2,60M - 0,20M X 13,50M = 11,34m³
A36: 2.19 | B36: 08.06.040 | C36: CDHU | D36: Barbacã em tubo de PVC com diâmetro 50 mm | L36: m | M36: =(13.5/1.5)*0.25 -> 2.25 | N36: 21.64 | O36: =M36*N36 -> 48.69 | P36: =N36*1.2979 -> 28.086556 | Q36: =M36*P36 -> 63.194751 | R36: >> INSTALAÇÃO A CADA 1,50M = 13,50M / 1,50M = 9 X 0,25 = 2,25m
A37: 2.20 | B37: 17.02.020 | C37: CDHU | D37: Chapisco | L37: m² | M37: 35.1 | N37: 5.05 | O37: =M37*N37 -> 177.255 | P37: =N37*1.2979 -> 6.554395 | Q37: =M37*P37 -> 230.05926 | R37: >> FACE INTERNA = 13,50M X 2,60M = 35,10m²
A38: 2.21 | B38: 46.12.210 | C38: CDHU | D38: Meio tubo de concreto, DN= 300mm | L38: m | M38: 14 | N38: 48.61 | O38: =M38*N38 -> 680.54 | P38: =N38*1.2979 -> 63.090919 | Q38: =M38*P38 -> 883.27287 | R38: >>
A39: 2.22 | B39: 14.20.020 | C39: CDHU | D39: Cimalha em concreto com pingadeira | L39: m | M39: =M19 -> 13.5 | N39: 7.98 | O39: =M39*N39 -> 107.73 | P39: =N39*1.2979 -> 10.357242 | Q39: =M39*P39 -> 139.82277 | R39: >> EXTENSÃO DO MURO
O40: =SUM(O18:O39) -> 21583.454 | Q40: =SUM(Q18:Q39) -> 28013.165
A41: 3 | D41: FECHAMENTO EM MURO DE DIVISA H=2,70m + DRENAGEM
A42: 3.1 | D42: MURO
A43: 3.1.1 | B43: 02.10.050 | C43: CDHU | D43: Locação para muros, cercas e alambrados | L43: m | M43: 40 | N43: 1.01 | O43: =M43*N43 -> 40.4 | P43: =N43*1.2979 -> 1.310879 | Q43: =M43*P43 -> 52.43516 | R43: >> EXTENSÃO DO MURO DE FECHAMENTO
A44: 3.1.2 | B44: 02.09.130 | C44: CDHU | D44: Limpeza mecanizada do terreno, inclusive troncos com diâmetro acima de 15 cm até 50 cm, com caminhão à disposição dentro da obra, até o raio de 1 km | L44: m² | M44: =M43*2 -> 80 | N44: 2.75 | O44: =M44*N44 -> 220 | P44: =N44*1.2979 -> 3.569225 | Q44: =M44*P44 -> 285.538 | R44: >> FAIXA COM 2 METROS DE LARGURA = 40M X 2M = 80m²
A45: 3.1.3 | B45: 06.01.020 | C45: CDHU | D45: Escavação manual em solo de 1ª e 2ª categoria em campo aberto | L45: m³ | M45: 1.6 | N45: 34.85 | O45: =M45*N45 -> 55.76 | P45: =N45*1.2979 -> 45.231815 | Q45: =M45*P45 -> 72.370904 | R45: >> ESCAVAÇÃO (VIGA BALDRAME) = 0,20M X 0,20M X 40M = 1,60m³
A46: 3.1.4 | B46: 12.01.021 | C46: CDHU | D46: Broca em concreto armado diâmetro de 20 cm – completa | L46: m | M46: =21*3 -> 63 | N46: 47.49 | O46: =M46*N46 -> 2991.87 | P46: =N46*1.2979 -> 61.637271 | Q46: =M46*P46 -> 3883.1481 | R46: >> EXTENSÃO = 40M / 2M = 20 BROCAS + 01 BROCA (CANTO) X 3M = 63m
A47: 3.1.5 | B47: 11.18.040 | C47: CDHU | D47: Lastro de pedra britada – 3 cm | L47: m³ | M47: =M43*0.2*0.03 -> 0.24 | N47: 117.64 | O47: =M47*N47 -> 28.2336 | P47: =N47*1.2979 -> 152.68496 | Q47: =M47*P47 -> 36.644389 | R47: >> LASTRO (VIGA BALDRAME) = 40M X 0,20M X 0,03 = 0,24m³
A48: 3.1.6 | B48: 11.01.130 | C48: CDHU | D48: Concreto usinado, fck = 25 Mpa | L48: m³ | M48: 2.71 | N48: 336.54 | O48: =M48*N48 -> 912.0234 | P48: =N48*1.2979 -> 436.79527 | Q48: =M48*P48 -> 1183.7152 | R48: >> VIGA BALDRAME = 0,20M X 0,20M X 40M = 1,60M³ + PILAR = 21 UNIDADES X 0,14M X 0,14M X 2,70M = 1,11M³ = TOTAL = 2,71m³
...

Sheet CRONOGRAMA
A3: CRONOGRAMA FÍSICO-FINANCEIRO
A5: OBRA: ADEQUAÇÃO DO CENTRO DE ZOONOSES MUNICIPAL LOCAL: RUA FRANCISCO SILVEIRA DINIZ - PARQUE INDUSTRIAL | D5: PRAZO DA OBRA: 120 DIAS
A6: ITEM | B6: DESCRIMINAÇÃO | C6: ETAPA | D6: 30 DIAS | E6: 60 DIAS | F6: 90 DIAS | G6: 120 DIAS
A7: 1 | B7: SERVIÇOS PRELIMINARES | C7: ='PLANILHA ORÇAMENTÁRIA'!Q17 -> 5227.2019 | D7: =2321.57+726.43 -> 3048 | E7: 726.4 | F7: 726.4 | G7: 726.4
B8: % | C8: =C7/C18 -> 0.038089597 | D8: =D7/C7 -> 0.58310355 | E8: =E7/C7 -> 0.13896536 | F8: =F7/C7 -> 0.13896536 | G8: =G7/C7 -> 0.13896536
A9: 2 | B9: FECHAMENTO EM MURO DE ARRIMO H=2,60m | C9: ='PLANILHA ORÇAMENTÁRIA'!Q41 -> 30497.668 | D9: =C9/2 -> 15248.834 | E9: =C9/2 -> 15248.834
B10: % | C10: =C9/C18 -> 0.22223054 | D10: =D9/C9 -> 0.5 | E10: =E9/C9 -> 0.5
A11: 3 | B11: FECHAMENTO EM MURO DE DIVISA H=2,70m + DRENAGEM | C11: ='PLANILHA ORÇAMENTÁRIA'!Q67 -> 41725.847 | E11: 20862.93 | F11: =C11/2 -> 20862.923
B12: % | C12: =C11/C18 -> 0.30404808 | E12: =E11/C11 -> 0.50000016 | F12: =F11/C11 -> 0.5
A13: 4 | B13: CALÇADA | C13: ='PLANILHA ORÇAMENTÁRIA'!Q80 -> 47262.013 | E13: =C13/2 -> 23631.007 | F13: 18904.8 | G13: 4726.2
B14: % | C14: =C13/C18 -> 0.34438904 | E14: =E13/C13 -> 0.5 | F14: =F13/C13 -> 0.39999989 | G14: =G13/C13 -> 0.099999972
A15: 5 | B15: SERVIÇOS FINAIS | C15: ='PLANILHA ORÇAMENTÁRIA'!Q83 -> 12521.641 | G15: =C15 -> 12521.641
B16: % | C16: =C15/C18 -> 0.091242746 | G16: =G15/C15 -> 1
A18: RESUMO DO ORÇAMENTO | C18: =C7+C9+C11+C13+C15 -> 137234.37
A19: TOTAL (R$) | D19: =D7+D9 -> 18296.834 | E19: =E7+E9+E11+E13 -> 60469.171 | F19: =F7+F11+F13 -> 40494.123 | G19: =G7+G13+G15 -> 17974.241
A20: TOTAL (%) | D20: =D19/C18 -> 0.13332545 | E20: =E19/C18 -> 0.44062701 | F20: =F19/C18 -> 0.29507275 | G20: =G19/C18 -> 0.13097477
A21: ACUMULADO (R$) | D21: =D19 -> 18296.834 | E21: =D21+E19 -> 78766.005 | F21: =F19+E21 -> 119260.13 | G21: =F21+G19 -> 137234.37
A22: ACUMULADO (%) | D22: =D20 -> 0.13332545 | E22: =D22+E20 -> 0.57395246 | F22: =F20+E22 -> 0.86902521 | G22: =F22+G20 -> 0.99999999
A24: Obs.: 1 - Os prazos das etapas serão considerados a partir da data da assinatura da ordem de serviço inicial emitida pela prefeitura.
