Workbook
Name __xlnm_Print_Area: COMPOSIÇÕES!$A$9:$I$28
Name __xlnm_Print_Area: CRONOGRAMA!$A$9:$J$21
Name __xlnm_Print_Area: 'PLANILHA ORÇAMENTÁRIA'!$A$9:$I$19
Name __xlnm_Print_Area: 'PLANILHA ORÇAMENTÁRIA_APROVAÇÃO'!$A$9:$H$12
Name __xlnm_Print_Area: 'PREÇO MERCADO_APROVAÇÃO NA CONC'!$A$9:$I$12
Name __xlnm_Print_Area_0: COMPOSIÇÕES!$A$9:$I$28
Name __xlnm_Print_Area_0: CRONOGRAMA!$A$9:$J$21
Name __xlnm_Print_Area_0: 'PLANILHA ORÇAMENTÁRIA'!$A$9:$I$19
Name __xlnm_Print_Area_0: 'PLANILHA ORÇAMENTÁRIA_APROVAÇÃO'!$A$9:$H$12
Name __xlnm_Print_Area_0: 'PREÇO MERCADO_APROVAÇÃO NA CONC'!$A$9:$I$12
Name __xlnm_Print_Area_0_0: COMPOSIÇÕES!$A$9:$I$28
Name __xlnm_Print_Area_0_0: CRONOGRAMA!$A$9:$J$21
Name __xlnm_Print_Area_0_0: 'PLANILHA ORÇAMENTÁRIA'!$A$9:$I$19
Name __xlnm_Print_Area_0_0: 'PLANILHA ORÇAMENTÁRIA_APROVAÇÃO'!$A$9:$H$12
Name __xlnm_Print_Area_0_0: 'PREÇO MERCADO_APROVAÇÃO NA CONC'!$A$9:$I$12
Name __xlnm_Print_Area_0_0_0: COMPOSIÇÕES!$A$9:$I$28
Name __xlnm_Print_Area_0_0_0: CRONOGRAMA!$A$9:$J$21
Name __xlnm_Print_Area_0_0_0: 'PLANILHA ORÇAMENTÁRIA'!$A$9:$I$19
Name __xlnm_Print_Area_0_0_0: 'PLANILHA ORÇAMENTÁRIA_APROVAÇÃO'!$A$9:$H$12
Name __xlnm_Print_Area_0_0_0: 'PREÇO MERCADO_APROVAÇÃO NA CONC'!$A$9:$I$12
Name __xlnm_Print_Area_0_0_0_0: COMPOSIÇÕES!$A$9:$I$28
Name __xlnm_Print_Area_0_0_0_0: CRONOGRAMA!$A$9:$J$21
Name __xlnm_Print_Area_0_0_0_0: 'PLANILHA ORÇAMENTÁRIA'!$A$9:$I$19
Name __xlnm_Print_Area_0_0_0_0: 'PLANILHA ORÇAMENTÁRIA_APROVAÇÃO'!$A$9:$H$12
Name __xlnm_Print_Area_0_0_0_0: 'PREÇO MERCADO_APROVAÇÃO NA CONC'!$A$9:$I$12
Name __xlnm_Print_Area_0_0_0_0_0: COMPOSIÇÕES!$A$9:$I$28
Name __xlnm_Print_Area_0_0_0_0_0: CRONOGRAMA!$A$9:$J$21
Name __xlnm_Print_Area_0_0_0_0_0: 'PLANILHA ORÇAMENTÁRIA'!$A$9:$I$19
Name __xlnm_Print_Area_0_0_0_0_0: 'PLANILHA ORÇAMENTÁRIA_APROVAÇÃO'!$A$9:$H$12
Name __xlnm_Print_Area_0_0_0_0_0: 'PREÇO MERCADO_APROVAÇÃO NA CONC'!$A$9:$I$12
Name __xlnm_Print_Area_0_0_0_0_0_0: COMPOSIÇÕES!$A$9:$I$28
Name __xlnm_Print_Area_0_0_0_0_0_0: CRONOGRAMA!$A$9:$J$21
Name __xlnm_Print_Area_0_0_0_0_0_0: 'PLANILHA ORÇAMENTÁRIA'!$A$9:$I$19
Name __xlnm_Print_Area_0_0_0_0_0_0: 'PLANILHA ORÇAMENTÁRIA_APROVAÇÃO'!$A$9:$H$12
Name __xlnm_Print_Area_0_0_0_0_0_0: 'PREÇO MERCADO_APROVAÇÃO NA CONC'!$A$9:$I$12
Name __xlnm_Print_Area_0_0_0_0_0_0_0: COMPOSIÇÕES!$A$9:$I$28
Name __xlnm_Print_Area_0_0_0_0_0_0_0: CRONOGRAMA!$A$9:$J$21
Name __xlnm_Print_Area_0_0_0_0_0_0_0: 'PLANILHA ORÇAMENTÁRIA'!$A$9:$I$19
Name __xlnm_Print_Area_0_0_0_0_0_0_0: 'PLANILHA ORÇAMENTÁRIA_APROVAÇÃO'!$A$9:$H$12
Name __xlnm_Print_Area_0_0_0_0_0_0_0: 'PREÇO MERCADO_APROVAÇÃO NA CONC'!$A$9:$I$12
Name __xlnm_Print_Area_0_0_0_0_0_0_0_0: COMPOSIÇÕES!$A$9:$I$28
Name __xlnm_Print_Area_0_0_0_0_0_0_0_0: CRONOGRAMA!$A$9:$J$21
Name __xlnm_Print_Area_0_0_0_0_0_0_0_0: 'PLANILHA ORÇAMENTÁRIA'!$A$9:$I$19
Name __xlnm_Print_Area_0_0_0_0_0_0_0_0: 'PLANILHA ORÇAMENTÁRIA_APROVAÇÃO'!$A$9:$H$12
Name __xlnm_Print_Area_0_0_0_0_0_0_0_0: 'PREÇO MERCADO_APROVAÇÃO NA CONC'!$A$9:$I$12
Name __xlnm_Print_Area_0_0_0_0_0_0_0_0_0: COMPOSIÇÕES!$A$9:$I$28
Name __xlnm_Print_Area_0_0_0_0_0_0_0_0_0: CRONOGRAMA!$A$9:$J$21
Name __xlnm_Print_Area_0_0_0_0_0_0_0_0_0: 'PLANILHA ORÇAMENTÁRIA'!$A$9:$I$19
Name __xlnm_Print_Area_0_0_0_0_0_0_0_0_0: 'PLANILHA ORÇAMENTÁRIA_APROVAÇÃO'!$A$9:$H$12
Name __xlnm_Print_Area_0_0_0_0_0_0_0_0_0: 'PREÇO MERCADO_APROVAÇÃO NA CONC'!$A$9:$I$12
Name __xlnm_Print_Area_0_0_0_0_0_0_0_0_0_0: COMPOSIÇÕES!$A$9:$I$28
Name __xlnm_Print_Area_0_0_0_0_0_0_0_0_0_0: CRONOGRAMA!$A$9:$J$21
Name __xlnm_Print_Area_0_0_0_0_0_0_0_0_0_0: 'PLANILHA ORÇAMENTÁRIA'!$A$9:$I$19
Name __xlnm_Print_Area_0_0_0_0_0_0_0_0_0_0: 'PLANILHA ORÇAMENTÁRIA_APROVAÇÃO'!$A$9:$H$12
Name __xlnm_Print_Area_0_0_0_0_0_0_0_0_0_0: 'PREÇO MERCADO_APROVAÇÃO NA CONC'!$A$9:$I$12
Name __xlnm_Print_Area_0_0_0_0_0_0_0_0_0_0_0: COMPOSIÇÕES!$A$9:$I$28
Name __xlnm_Print_Area_0_0_0_0_0_0_0_0_0_0_0: CRONOGRAMA!$A$9:$J$21
Name __xlnm_Print_Area_0_0_0_0_0_0_0_0_0_0_0: 'PLANILHA ORÇAMENTÁRIA'!$A$9:$I$19
Name __xlnm_Print_Area_0_0_0_0_0_0_0_0_0_0_0: 'PLANILHA ORÇAMENTÁRIA_APROVAÇÃO'!$A$9:$H$12
Name __xlnm_Print_Area_0_0_0_0_0_0_0_0_0_0_0: 'PREÇO MERCADO_APROVAÇÃO NA CONC'!$A$9:$I$12

Sheet CRONOGRAMA
A8: CRONOGRAMA FÍSICO-FINANCEIRO | D8: PRAZO DA OBRA
A10: Instalação de Iluminação Pública tipo LED – Avenida Ivone Antunes de Campos | D10: 6 meses
A11: META 1
A12: ITEM | B12: DESCRIMINAÇÃO | C12: ETAPA | D12: 1 MÊS | E12: 2 MÊS | F12: 3 MÊS | G12: 4 MÊS | H12: 5 MÊS | I12: 6 MÊS
A13: 1 | B13: ='PLANILHA ORÇAMENTÁRIA_APROVAÇÃO'!C12 -> APROVAÇÃO JUNTO À CONCESSIONÁRIA – elaboração do projeto técnico | C13: ='PLANILHA ORÇAMENTÁRIA_APROVAÇÃO'!H12 -> 4550 | D13: =C13*D14 -> 2275 | E13: =C13*E14 -> 2275
B14: % | C14: 100 | D14: 0.5 | E14: 0.5
A15: 2 | B15: TRANSFORMADOR DE DISTRIBUIÇÃO 30 KVA | C15: ='PLANILHA ORÇAMENTÁRIA_APROVAÇÃO'!H13 -> 20389.58 | F15: =C15 -> 20389.58
B16: % | C16: 100 | F16: 1
A17: 3 | B17: TRANSFORMADOR DE DISTRIBUIÇÃO 45 KVA | C17: ='PLANILHA ORÇAMENTÁRIA_APROVAÇÃO'!H14 -> 11333.35 | F17: =C17 -> 11333.35
B18: % | C18: 100 | F18: =100% -> 1
A19: META 2
A20: ITEM | B20: DESCRIMINAÇÃO | C20: ETAPA | D20: 1 MÊS | E20: 2 MÊS | F20: 3 MÊS | G20: 4 MÊS | H20: 5 MÊS | I20: 6 MÊS
A21: 1 | B21: ='PLANILHA ORÇAMENTÁRIA'!D12 -> SERVIÇOS PRELIMINARES | C21: ='PLANILHA ORÇAMENTÁRIA'!I12 -> 1115.64 | D21: =C21*D22 -> 1115.64
B22: % | C22: =C21/C28 -> 0.0030735601 | D22: 1
A23: 2 | B23: ='PLANILHA ORÇAMENTÁRIA'!D14 -> REMOÇÃO DE POSTEAMENTO | C23: ='PLANILHA ORÇAMENTÁRIA'!I14 -> 1206 | G23: =$C$23*G24 -> 603 | H23: =$C$23*H24 -> 603
B24: % | C24: =C23/C28 -> 0.0033224997 | G24: 0.5 | H24: 0.5
A25: 3 | B25: ='PLANILHA ORÇAMENTÁRIA'!D16 -> EXECUÇÃO DE ILUMINAÇÃO PÚBLICA | C25: ='PLANILHA ORÇAMENTÁRIA'!I16 -> 324385.15 | G25: =C25*G26 -> 113534.8 | H25: =C25*H26 -> 113534.8 | I25: =C25*I26 -> 97315.545
B26: % | C26: =C25/C28 -> 0.89367293 | G26: 0.35 | H26: 0.35 | I26: 0.3
A28: RESUMO DO ORÇAMENTO | C28: =C13+C21+C15+C17+C23+C25 -> 362979.72
A29: TOTAL (R$) | D29: =D13+D21 -> 3390.64 | E29: =E13 -> 2275 | F29: =F15+F17 -> 31722.93 | G29: =G23+G25 -> 114137.8 | H29: =H23+H25 -> 114137.8 | I29: =I25 -> 97315.545
A30: TOTAL (%) | D30: =D29/C28 -> 0.0093411279 | E30: =E29/C28 -> 0.0062675678 | F30: =F29/C28 -> 0.087395874 | G30: =G29/C28 -> 0.31444678 | H30: =H29/C28 -> 0.31444678 | I30: =I29/C28 -> 0.26810188
A31: ACUMULADO (R$) | D31: =D29 -> 3390.64 | E31: =D31+E29 -> 5665.64 | F31: =E31+F29 -> 37388.57 | G31: =G29+F31 -> 151526.37 | H31: =G31+H29 -> 265664.17 | I31: =H31+I29 -> 362979.72
A32: ACUMULADO (%) | D32: =D30 -> 0.0093411279 | E32: =D32+E30 -> 0.015608696 | F32: =E32+F30 -> 0.10300457 | G32: =G30+F32 -> 0.41745135 | H32: =G32+H30 -> 0.73189812 | I32: =H32+I30 -> 1
A33: OBS.: 1 - OS PRAZOS DAS ETAPAS SERÃO CONSIDERADOS A PARTIR DA DATA DA ASSINATURA DA ORDEM DE SERVIÇO INICIAL EMITIDA PELO PREFEITURA.
A34: Pilar do Sul, 25 de Outubro de 2021

Sheet PLANILHA ORÇAMENTÁRIA
A8: OBRA: INSTALAÇÃO DE ILUMINAÇÃO PÚBLICA TIPO LED | J8: PREÇOS DE MERCADO (com BDI 25%)
A9: LOCAL: AVENIDA IVONE ANTUNES DE CAMPOS - PILAR DO SUL-SP
A10: META 2
A11: ITEM | B11: FONTE | C11: CÓDIGO | D11: DESCRIÇÃO | E11: UNID | F11: QTD | G11: VALOR UNITÁRIO | H11: VALOR UNITÁRIO C/ BDI 25,00% | I11: VALOR TOTAL | J11: PREÇO 1(RM EMPREEENDIMENTOS) VALOR UNITÁRIO | K11: PREÇO 2 (R.P. TOMAZ CONSTRUÇÕES) VALOR UNITÁRIO | L11: PREÇO 3 (ADILSON DA SILVA) VALOR UNITÁRIO | M11: PREÇO MÉDIO
A12: 1 | B12: SERVIÇO | D12: SERVIÇOS PRELIMINARES | I12: =I13 -> 1115.64
B13: CDHU | C13: CDHU – 02.08.050 | D13: PLACA EM LONA COM IMPRESSÃO DIGITAL E ESTRUTURA EM MADEIRA | E13: M² | F13: 6 | G13: 148.75 | H13: =G13*1.25 -> 185.9375 | I13: =F13*ROUND(H13,2) -> 1115.64
A14: 2 | B14: SERVIÇO | D14: REMOÇÃO DE POSTEAMENTO | E14: UNID | F14: 5 | G14: =G15 -> 192.96 | H14: =SUM(I15:I15) -> 241.2 | I14: =F14*ROUND(H14,2) -> 1206
B15: CDHU | C15: CDHU – 04.21.130 | D15: REMOÇÃO DE POSTE DE CONCRETO | E15: UNID | F15: 1 | G15: 192.96 | H15: =G15*1.25 -> 241.2 | I15: =F15*ROUND(H15,2) -> 241.2
A16: 3 | B16: SERVIÇO | D16: EXECUÇÃO DE ILUMINAÇÃO PÚBLICA | E16: UNID | F16: 28 | G16: =G17+G18+G19+G20 -> 5419.6187 | H16: =H17+H18+H19+H20 -> 6774.5233 | I16: =I17+I18+I19+I20 -> 324385.15 | J16: =J20+J19+J18+#REF! -> #REF! | K16: =K20+K19+K18+#REF! -> #REF! | L16: =L20+L19+L18+#REF! -> #REF!
A17: 3.1 | B17: CDHU | C17: CDHU – 68.01.800 | D17: POSTEAMENTO PARA EXTENSÃO DE REDE SECUNDÁRIA E INSTALAÇÃO DE IP - INSTALAÇÃO DE ACORDO COM AS NORMAS VIGENTES DA CONCESSIONARIA LOCAL (ELEKTRO)- POSTE CONCRETO CIRCULAR, 600 KG, H= 11,00m | E17: UNID | F17: 27 | G17: 2946.14 | H17: =G17*1.25 -> 3682.675 | I17: =F17*ROUND(H17,2) -> 99432.36
A18: 3.2 | B18: COMPOSIÇÃO DO SERVIÇO | C18: comp. 1 | D18: EXTENSÃO DE REDE SECUNDÁRIA – ACESSÓRIOS DE FIXAÇÃO - INSTALAÇÃO DE ACORDO COM AS NORMAS DA CONCESSIONARIA LOCAL (ELEKTRO) | E18: UNID | F18: 28 | G18: =COMPOSIÇÕES!G12 -> 913.98533 | H18: =G18*1.25 -> 1142.4817 | I18: =F18*ROUND(H18,2) -> 31989.44
A19: 3.3 | B19: COMPOSIÇÃO DO SERVIÇO | C19: comp. 2 | D19: EXTENSÃO DE REDE SECUNDÁRIA – CABEAMENTO - INSTALADO EM ACORDO COM A CONCESSIONARIA LOCAL (ELEKTRO) | E19: M | F19: 935 | G19: =COMPOSIÇÕES!G26 -> 122.05333 | H19: =G19*1.25 -> 152.56667 | I19: =F19*ROUND(H19,2) -> 142652.95
A20: 3.4 | B20: COMPOSIÇÃO DO SERVIÇO | C20: comp. 3 | D20: LUMINÁRIA INTEGRADA DE LED – POTÊNCIA 150 W – INSTALADO EM BRAÇO MÉDIO DE ACORDO COM AS NORMAS DA CONCESSIONARIA LOCAL (ELEKTRO) | E20: UNID | F20: 28 | G20: =COMPOSIÇÕES!G32 -> 1437.44 | H20: =G20*1.25 -> 1796.8 | I20: =F20*ROUND(H20,2) -> 50310.4
G22: TOTAL COM BDI = 25,00% | I22: =I12+I14+I16 -> 326706.79
A23: FONTE: CDHU 183 - DESONERADO / SINAPI DES. 09/2021 / PREÇOS DE MERCADO (MÉDIA DE 3 EMPRESAS)
A28: PILAR DO SUL-SP, 25 DE OUTUBRO DE 2021.

Sheet COMPOSIÇÕES
A8: OBRA: INFRAESTRUTURA URBANA – ILUMINAÇÃO PÚBLICA | J8: PREÇOS DE MERCADO (COM BDI 25%)
A9: LOCAL: AVENIDA IVONE ANTUNES DE CAMPOS - PILAR DO SUL-SP
A10: PLANILHA DE COMPOSOÇÕES
A11: ITEM | B11: FONTE | C11: CÓDIGO | D11: DESCRIÇÃO | E11: UNID | F11: QTD | G11: VALOR UNITÁRIO | H11: VALOR UNITÁRIO C/ BDI 25% | I11: VALOR TOTAL | J11: PREÇO 1 (RM EMPREEENDIMENTOS) V.UNITÁRIO | K11: PREÇO 2 (ELÉTRICA BIASI) V. UNITÁRIO | L11: PREÇO 3 (ADILSON DA SILVA PORTO) V. UNITÁRIO | M11: PREÇO MÉDIO
A12: 1 | B12: COMPOSIÇÃO DO SERVIÇO | C12: COMP.1 | D12: EXTENSÃO DE REDE SECUNDÁRIA – ACESSÓRIOS DE FIXAÇÃO - INSTALAÇÃO DE ACORDO COM AS NORMAS DA CONCESSIONARIA LOCAL (ELEKTRO) | E12: UNID | F12: 1 | G12: =G13*F13+G14*F14+G15*F15+G16*F16+G17*F17+G18*F18+G19*F19+G20*F20+G21*F21+G22*F22+G23*F23+G24*F24+G25*F25 -> 913.98533 | H12: =SUM(I13:I25) -> 1142.48 | I12: =F12*ROUND(H12,2) -> 1142.48
B13: COMPOSIÇÃO DO SERVIÇO | C13: CDHU - P.19.000.043502 | D13: ARMAÇÃO SECUNDÁRIA DE 1 ESTRIBO | E13: UNID | F13: 2 | G13: 20.21 | H13: =G13*1.25 -> 25.2625 | I13: =F13*ROUND(H13,2) -> 50.52
C14: CDHU - P.19.000.091389 | D14: ISOLADOR ROLDANA EM PORCELANA DE 72 X 72 mm | E14: UNID | F14: 2 | G14: 6.14 | H14: =G14*1.25 -> 7.675 | I14: =F14*ROUND(H14,2) -> 15.36
C15: MERCADO | D15: PARAFUSO CABEÇA QUADRADA M16x200mm | E15: UNID | F15: 2 | G15: =M15/1.25 -> 11.402667 | H15: =G15*1.25 -> 14.253333 | I15: =F15*ROUND(H15,2) -> 28.5 | J15: 13.9 | K15: 12.96 | L15: 15.9 | M15: =AVERAGE(J15,K15,L15) -> 14.253333
C16: MERCADO | D16: CINTA DE AÇO PARA POSTE CIRCULAR – 250mm COM ELEMENTOS DE FIXAÇÃO. | E16: UNID | F16: 2 | G16: =M16/1.25 -> 73.76 | H16: =G16*1.25 -> 92.2 | I16: =F16*ROUND(H16,2) -> 184.4 | J16: 81 | K16: 87.6 | L16: 108 | M16: =AVERAGE(J16,K16,L16) -> 92.2
C17: CDHU - P.15.000.049560 | D17: LAÇO PRÉ-FORMADO DE TOPO PARA CABO CA 4 AWG | E17: UNID | F17: 1 | G17: 5.04 | H17: =G17*1.25 -> 6.3 | I17: =F17*ROUND(H17,2) -> 6.3
C18: CDHU - E.03.000.049539 | D18: ARRUELA QUADRADA 50 x 3 x 18 mm | E18: UNID | F18: 2 | G18: 1.37 | H18: =G18*1.25 -> 1.7125 | I18: =F18*ROUND(H18,2) -> 3.42
C19: SINAPI INSUMOS - 11272 | D19: ALÇA PREFORMADA DE DISTRIBUIÇÃO | E19: UNID | F19: 2 | G19: 7.47 | H19: =G19*1.25 -> 9.3375 | I19: =F19*ROUND(H19,2) -> 18.68
C20: CDHU - P.19.000.042380 | D20: ABRAÇADEIRA PARA CABO MODELO MB-4 DA 3M SCOTCH PARA FIXAÇÃO DE CABO ELÉTRICO DE POTÊNCIA, ISOLADO DE TENSÃO ATÉ 35 KV | E20: UNID | F20: 2 | G20: 221.6 | H20: =G20*1.25 -> 277 | I20: =F20*ROUND(H20,2) -> 554
C21: MERCADO | D21: CONECTOR TIPO PERFURAÇÃO (IP) | E21: UNID | F21: 3 | G21: =M21/1.25 -> 15.706667 | H21: =G21*1.25 -> 19.633333 | I21: =F21*ROUND(H21,2) -> 58.89 | J21: 21 | K21: 17.4 | L21: 20.5 | M21: =AVERAGE(J21,K21,L21) -> 19.633333
C22: CDHU - S.04.000.081349 | D22: CAMINHÃO MUNCK 3 TONELADAS | E22: H | F22: 1 | G22: 142.21 | H22: =G22*1.25 -> 177.7625 | I22: =F22*ROUND(H22,2) -> 177.76
C23: SINAPI INSUMOS - 4096 | D23: MOTORISTA OPERADOR | E23: H | F23: 1 | G23: 17.31 | H23: =G23*1.25 -> 21.6375 | I23: =F23*ROUND(H23,2) -> 21.64
C24: CDHU - B.01.000.010115 | D24: ELETRICISTA | E24: H | F24: 1 | G24: 11.06 | H24: =G24*1.25 -> 13.825 | I24: =F24*ROUND(H24,2) -> 13.83
C25: CDHU - B.01.000.010116 | D25: AJUDANTE ELETRICISTA | E25: H | F25: 1 | G25: 7.34 | H25: =G25*1.25 -> 9.175 | I25: =F25*ROUND(H25,2) -> 9.18
A26: 2 | B26: COMPOSIÇÃO DO SERVIÇO | C26: COMP.2 | D26: EXTENSÃO DE REDE SECUNDÁRIA – CABEAMENTO - INSTALADO EM ACORDO COM A CONCESSIONARIA LOCAL (ELEKTRO) | E26: M | F26: 1 | G26: =G27*F27+G28*F28+G29*F29+G30*F30+G31*F31 -> 122.05333 | H26: =SUM(I27:I31) -> 152.575 | I26: =F26*ROUND(H26,2) -> 152.58
B27: COMPOSIÇÃO DO SERVIÇO | C27: MERCADO | D27: CABO DE ALUMINIO 3 X 50MM²+1 X 50MM² - FASES CA, ISOLAÇÃO XLPE COLORIDA E NEUTRO ISOLADO EM CA | E27: M | F27: 1 | G27: =M27/1.25 -> 33.093333 | H27: =G27*1.25 -> 41.366667 | I27: =F27*ROUND(H27,2) -> 41.37 | J27: 43.9 | K27: 34.2 | L27: 46 | M27: =AVERAGE(J27,K27,L27) -> 41.366667
C28: CDHU - S.04.000.081349 | D28: CAMINHÃO MUNCK 3 TONELADAS | E28: H | F28: 0.5 | G28: 142.21 | H28: =G28*1.25 -> 177.7625 | I28: =F28*ROUND(H28,2) -> 88.88
C29: SINAPI INSUMOS - 4096 | D29: MOTORISTA OPERADOR | E29: H | F29: 0.5 | G29: 17.31 | H29: =G29*1.25 -> 21.6375 | I29: =F29*ROUND(H29,2) -> 10.82
C30: CDHU - B.01.000.010115 | D30: ELETRICISTA | E30: H | F30: 0.5 | G30: 11.06 | H30: =G30*1.25 -> 13.825 | I30: =F30*ROUND(H30,2) -> 6.915
C31: CDHU - B.01.000.010116 | D31: AJUDANTE ELETRICISTA | E31: H | F31: 0.5 | G31: 7.34 | H31: =G31*1.25 -> 9.175 | I31: =F31*ROUND(H31,2) -> 4.59
A32: 3 | B32: COMPOSIÇÃO DO SERVIÇO | C32: COMP.3 | D32: INSTALAÇÃO COMPLETA DE LUMINÁRIA LED | E32: UNID | F32: 1 | G32: =G33*F33+G34*F34+G35*F35 -> 1437.44 | H32: =SUM(H33:H35) -> 1796.8 | I32: =F32*ROUND(H32,2) -> 1796.8
B33: COMPOSIÇÃO DO SERVIÇO | C33: CDHU - 41.11.703 | D33: LUMINÁRIA LED RETANGULAR PARA POSTE DE 14.160 ATÉ 17.475 LM, EFICIÊNCIA MÍNIMA 118 LM/W- INSTALADO EM BRAÇO MÉDIO DE ACORDO COM AS NORMAS DA CONCESSIONARIA LOCAL (ELEKTRO) | E33: UNID | F33: 1 | G33: 1276.07 | H33: =G33*1.25 -> 1595.0875 | I33: =F33*ROUND(H33,2) -> 1595.09
C34: SINAPI - 101632 | D34: RELÉ FOTOELÉTRICO PARA COMANDO DE ILUMINAÇÃO EXTERNA 1000 W - FORNECIMENTO E INSTALAÇÃO. | E34: UNID | F34: 1 | G34: 34.79 | H34: =G34*1.25 -> 43.4875 | I34: =F34*ROUND(H34,2) -> 43.49
C35: SINAPI - 101636 | D35: BRAÇO PARA ILUMINAÇÃO PÚBLICA, EM TUBO DE AÇO GALVANIZADO, COMPRIMENTO DE 1,50 M, PARA FIXAÇÃO EM POSTE DE CONCRETO - FORNECIMENTO E INSTALAÇÃO | E35: UNID | F35: 1 | G35: 126.58 | H35: =G35*1.25 -> 158.225 | I35: =F35*ROUND(H35,2) -> 158.23
A36: 4 | B36: COMPOSIÇÃO DO SERVIÇO | C36: COMP.4 | D36: INSTALAÇÃO DE TRANSFORMADOR DE DISTRIBUIÇÃO 30 KVA | E36: UNID | F36: 2 | G36: =G37+G38 -> 8155.83 | H36: =H37+H38 -> 10194.788 | I36: =H36*F36 -> 20389.575
B37: COMPOSIÇÃO DO SERVIÇO | C37: SINAPI – 102102 | D37: TRANSFORMADOR DE DISTRIBUIÇÃO, 30 KVA, TRIFÁSICO, 60 HZ, CLASSE 15 KV,IMERSO EM ÓLEO MINERAL, INSTALAÇÃO EM POSTE (NÃO INCLUSO SUPORTE) – FORNECIMENTO E INSTALAÇÃO. AF_12/2020 | E37: UND | F37: 1 | G37: 8095.41 | H37: =G37*1.25 -> 10119.263 | I37: =F37*ROUND(H37,2) -> 10119.26
C38: SINAPI – 101632 | D38: SUPORTE PARA TRANSFORMADOR EM POSTE DE CONCRETO CIRCULAR – FORNECIMENTO E INSTALAÇÃO. AF_12/2020 | E38: UND | F38: 1 | G38: 60.42 | H38: =G38*1.25 -> 75.525 | I38: =F38*ROUND(H38,2) -> 75.53
A39: 5 | B39: COMPOSIÇÃO DO SERVIÇO | C39: COMP.5 | D39: INSTALAÇÃO DE TRANSFORMADOR DE DISTRIBUIÇÃO 45 KVA | E39: UND | F39: 1 | G39: =G40+G41 -> 9066.68 | H39: =H40+H41 -> 11333.35 | I39: =H39*F39 -> 11333.35
B40: COMPOSIÇÃO DO SERVIÇO | C40: SINAPI – 102103 | D40: TRANSFORMADOR DE DISTRIBUIÇÃO, 45 KVA, TRIFÁSICO, 60 HZ, CLASSE 15 KV, IMERSO EM ÓLEO MINERAL, INSTALAÇÃO EM POSTE (NÃO INCLUSO SUPORTE) – FORNECIMENTO E INSTALAÇÃO. AF_12/2020 | E40: UND | F40: 1 | G40: 9006.26 | H40: =G40*1.25 -> 11257.825 | I40: =F40*ROUND(H40,2) -> 11257.83
C41: SINAPI – 101632 | D41: SUPORTE PARA TRANSFORMADOR EM POSTE DE CONCRETO CIRCULAR – FORNECIMENTO E INSTALAÇÃO. AF_12/2020 | E41: UND | F41: 1 | G41: 60.42 | H41: =G41*1.25 -> 75.525 | I41: =F41*ROUND(H41,2) -> 75.53
A42: FONTE: CDHU 183 - DESONERADO / SINAPI DES. 09/2021 / PREÇOS DE MERCADO (MÉDIA DE 3 EMPRESAS)
A43: PILAR DO SUL-SP, 25 DE SETEMBRO DE 2021.

Sheet PLANILHA ORÇAMENTÁRIA_APROVAÇÃO
A8: OBRA: INSTALAÇÃO DE ILUMINAÇÃO PÚBLICA TIPO LED | I8: PREÇOS DE MERCADO (com BDI 25%)
A9: LOCAL: AVENIDA IVONE ANTUNES DE CAMPOS - PILAR DO SUL-SP
A10: META 1
A11: ITEM | B11: FONTE/CÓDIGO | C11: DESCRIÇÃO | D11: UNID | E11: QTD | F11: VALOR UNITÁRIO | G11: VALOR UNITÁRIO C/ BDI 25,00% | H11: VALOR TOTAL | I11: PREÇO 1(RM EMPREEENDIMENTOS) VALOR UNITÁRIO | J11: PREÇO 2 (R.P. TOMAZ CONSTRUÇÕES) VALOR UNITÁRIO | K11: PREÇO 3 (ADILSON DA SILVA) VALOR UNITÁRIO | L11: PREÇO MÉDIO
A12: 1 | B12: MERCADO | C12: APROVAÇÃO JUNTO À CONCESSIONÁRIA – elaboração do projeto técnico | D12: UND | E12: 1 | F12: ='PREÇO MERCADO_APROVAÇÃO NA CONC'!G12 -> 3640 | G12: ='PREÇO MERCADO_APROVAÇÃO NA CONC'!H12 -> 4550 | H12: =E12*ROUND(G12,2) -> 4550
A13: 2 | B13: SINAPI 09/2021 102102 | C13: TRANSFORMADOR DE DISTRIBUIÇÃO 30 KVA | D13: UND | E13: 2 | F13: =COMPOSIÇÕES!G36 -> 8155.83 | G13: =F13*1.25 -> 10194.788 | H13: =E13*ROUND(G13,2) -> 20389.58
A14: 3 | B14: SINAPI 09/2021 102103 | C14: TRANSFORMADOR DE DISTRIBUIÇÃO 45 KVA | D14: UND | E14: 1 | F14: =COMPOSIÇÕES!G39 -> 9066.68 | G14: =F14*1.25 -> 11333.35 | H14: =E14*ROUND(G14,2) -> 11333.35
F15: TOTAL COM BDI = 25,00% | H15: =SUM(H12:H14) -> 36272.93
A16: FONTE: PREÇOS DE MERCADO – SETEMBRO/2021 (MÉDIA DE 3 EMPRESAS) / SINAPI 09/2021
A21: PILAR DO SUL-SP, 25 DE OUTUBRO DE 2021.

Sheet PREÇO MERCADO_APROVAÇÃO NA CONC
A8: OBRA: INFRAESTRUTURA URBANA – ILUMINAÇÃO PÚBLICA | J8: PREÇOS DE MERCADO (COM BDI 25%)
A9: LOCAL: AVENIDA IVONE ANTUNES DE CAMPOS - PILAR DO SUL-SP
A11: ITEM | B11: FONTE | C11: CÓDIGO | D11: DESCRIÇÃO | E11: UNID | F11: QTD | G11: VALOR UNITÁRIO | H11: VALOR UNITÁRIO C/ BDI 25% | I11: VALOR TOTAL | J11: PREÇO 1 (RM EMPREEENDIMENTOS) V. UNITÁRIO | K11: PREÇO 2 (ELÉTRICA BIASI) V. UNITÁRIO | L11: PREÇO 3 (ADILSON DA SILVA PORTO) V. UNITÁRIO | M11: PREÇO MÉDIO
A12: 1 | B12: MERCADO | C12: COMP.1 | D12: APROVAÇÃO JUNTO À CONCESSIONÁRIA | E12: UNID | F12: 1 | G12: =M12/1.25 -> 3640 | H12: =M12 -> 4550 | I12: =F12*ROUND(H12,2) -> 4550 | J12: 4100 | K12: 3700 | L12: 5850 | M12: =(J12+K12+L12)/3 -> 4550
A15: FONTE:PREÇOS DE MERCADO (MÉDIA DE 3 EMPRESAS)
A17: PILAR DO SUL-SP, 16 DE OUTUBRO DE 2021.
